BEGIN:VCALENDAR
VERSION:2.0
PRODID:-//The Help Group&#039;s Prevention - ECPv6.15.20//NONSGML v1.0//EN
CALSCALE:GREGORIAN
METHOD:PUBLISH
X-WR-CALNAME:The Help Group&#039;s Prevention
X-ORIGINAL-URL:https://thg-prevention.org
X-WR-CALDESC:Events for The Help Group&#039;s Prevention
REFRESH-INTERVAL;VALUE=DURATION:PT1H
X-Robots-Tag:noindex
X-PUBLISHED-TTL:PT1H
BEGIN:VTIMEZONE
TZID:UTC
BEGIN:STANDARD
TZOFFSETFROM:+0000
TZOFFSETTO:+0000
TZNAME:UTC
DTSTART:20260101T000000
END:STANDARD
END:VTIMEZONE
BEGIN:VEVENT
DTSTART;TZID=UTC:20270121T150000
DTEND;TZID=UTC:20270121T170000
DTSTAMP:20260422T151159
CREATED:20230805T031437Z
LAST-MODIFIED:20230805T062036Z
UID:10000716-1800543600-1800550800@thg-prevention.org
SUMMARY:Sylvan Learning - Northridge
DESCRIPTION:[vc_row][vc_column][vc_column_text] \n\n\nNorthridge Sylvan\nThe Help Group Drop-In Welcome Visit\n\n\n\n\n\nTime: 3pm for 15 min \n\n\n\n\n\nLocation: 8984 Tampa Ave\, Northridge\, CA 91324 \n\n\n\n\n\n\nPlease select your time slot for your in-person Welcome Visit to our Northridge Sylvan Center. \n\n\n\n\n[/vc_column_text]Schedule[/vc_column][/vc_row]
URL:https://thg-prevention.org/events/sylvan-learning-northridge/2027-01-21/
CATEGORIES:Prevention & Aftercare
ATTACH;FMTTYPE=image/jpeg:https://thg-prevention.org/wp-content/uploads/2023/08/1.jpg
END:VEVENT
BEGIN:VEVENT
DTSTART;TZID=UTC:20270121T153000
DTEND;TZID=UTC:20270121T173000
DTSTAMP:20260422T151159
CREATED:20230805T031006Z
LAST-MODIFIED:20230805T062103Z
UID:10000193-1800545400-1800552600@thg-prevention.org
SUMMARY:Sylvan Learning - Tarzana
DESCRIPTION:[vc_row][vc_column][vc_column_text] \nSylvan Learning Center Tarzana\nThe Help Group Drop-In Welcome Visit\n\n\nTime: 3:30pm for 15 min\n\n\n\n\nLocation: 18840 Ventura Blvd #219\, Tarzana\, CA 91356 \n\n\n\n\n\n\nPlease schedule your first in-person visit to our Sylvan Learning Center in Tarzana. \n\n\n\n[/vc_column_text]Schedule[/vc_column][/vc_row]
URL:https://thg-prevention.org/events/sylvan-learning-tarzana/2027-01-21/
CATEGORIES:Prevention & Aftercare
ATTACH;FMTTYPE=image/jpeg:https://thg-prevention.org/wp-content/uploads/2023/08/1.jpg
END:VEVENT
BEGIN:VEVENT
DTSTART;TZID=UTC:20270128T150000
DTEND;TZID=UTC:20270128T170000
DTSTAMP:20260422T151159
CREATED:20230805T031437Z
LAST-MODIFIED:20230805T062036Z
UID:10000717-1801148400-1801155600@thg-prevention.org
SUMMARY:Sylvan Learning - Northridge
DESCRIPTION:[vc_row][vc_column][vc_column_text] \n\n\nNorthridge Sylvan\nThe Help Group Drop-In Welcome Visit\n\n\n\n\n\nTime: 3pm for 15 min \n\n\n\n\n\nLocation: 8984 Tampa Ave\, Northridge\, CA 91324 \n\n\n\n\n\n\nPlease select your time slot for your in-person Welcome Visit to our Northridge Sylvan Center. \n\n\n\n\n[/vc_column_text]Schedule[/vc_column][/vc_row]
URL:https://thg-prevention.org/events/sylvan-learning-northridge/2027-01-28/
CATEGORIES:Prevention & Aftercare
ATTACH;FMTTYPE=image/jpeg:https://thg-prevention.org/wp-content/uploads/2023/08/1.jpg
END:VEVENT
BEGIN:VEVENT
DTSTART;TZID=UTC:20270128T153000
DTEND;TZID=UTC:20270128T173000
DTSTAMP:20260422T151159
CREATED:20230805T031006Z
LAST-MODIFIED:20230805T062103Z
UID:10000194-1801150200-1801157400@thg-prevention.org
SUMMARY:Sylvan Learning - Tarzana
DESCRIPTION:[vc_row][vc_column][vc_column_text] \nSylvan Learning Center Tarzana\nThe Help Group Drop-In Welcome Visit\n\n\nTime: 3:30pm for 15 min\n\n\n\n\nLocation: 18840 Ventura Blvd #219\, Tarzana\, CA 91356 \n\n\n\n\n\n\nPlease schedule your first in-person visit to our Sylvan Learning Center in Tarzana. \n\n\n\n[/vc_column_text]Schedule[/vc_column][/vc_row]
URL:https://thg-prevention.org/events/sylvan-learning-tarzana/2027-01-28/
CATEGORIES:Prevention & Aftercare
ATTACH;FMTTYPE=image/jpeg:https://thg-prevention.org/wp-content/uploads/2023/08/1.jpg
END:VEVENT
BEGIN:VEVENT
DTSTART;TZID=UTC:20270204T150000
DTEND;TZID=UTC:20270204T170000
DTSTAMP:20260422T151159
CREATED:20230805T031437Z
LAST-MODIFIED:20230805T062036Z
UID:10000718-1801753200-1801760400@thg-prevention.org
SUMMARY:Sylvan Learning - Northridge
DESCRIPTION:[vc_row][vc_column][vc_column_text] \n\n\nNorthridge Sylvan\nThe Help Group Drop-In Welcome Visit\n\n\n\n\n\nTime: 3pm for 15 min \n\n\n\n\n\nLocation: 8984 Tampa Ave\, Northridge\, CA 91324 \n\n\n\n\n\n\nPlease select your time slot for your in-person Welcome Visit to our Northridge Sylvan Center. \n\n\n\n\n[/vc_column_text]Schedule[/vc_column][/vc_row]
URL:https://thg-prevention.org/events/sylvan-learning-northridge/2027-02-04/
CATEGORIES:Prevention & Aftercare
ATTACH;FMTTYPE=image/jpeg:https://thg-prevention.org/wp-content/uploads/2023/08/1.jpg
END:VEVENT
BEGIN:VEVENT
DTSTART;TZID=UTC:20270204T153000
DTEND;TZID=UTC:20270204T173000
DTSTAMP:20260422T151159
CREATED:20230805T031006Z
LAST-MODIFIED:20230805T062103Z
UID:10000195-1801755000-1801762200@thg-prevention.org
SUMMARY:Sylvan Learning - Tarzana
DESCRIPTION:[vc_row][vc_column][vc_column_text] \nSylvan Learning Center Tarzana\nThe Help Group Drop-In Welcome Visit\n\n\nTime: 3:30pm for 15 min\n\n\n\n\nLocation: 18840 Ventura Blvd #219\, Tarzana\, CA 91356 \n\n\n\n\n\n\nPlease schedule your first in-person visit to our Sylvan Learning Center in Tarzana. \n\n\n\n[/vc_column_text]Schedule[/vc_column][/vc_row]
URL:https://thg-prevention.org/events/sylvan-learning-tarzana/2027-02-04/
CATEGORIES:Prevention & Aftercare
ATTACH;FMTTYPE=image/jpeg:https://thg-prevention.org/wp-content/uploads/2023/08/1.jpg
END:VEVENT
BEGIN:VEVENT
DTSTART;TZID=UTC:20270211T150000
DTEND;TZID=UTC:20270211T170000
DTSTAMP:20260422T151159
CREATED:20230805T031437Z
LAST-MODIFIED:20230805T062036Z
UID:10000719-1802358000-1802365200@thg-prevention.org
SUMMARY:Sylvan Learning - Northridge
DESCRIPTION:[vc_row][vc_column][vc_column_text] \n\n\nNorthridge Sylvan\nThe Help Group Drop-In Welcome Visit\n\n\n\n\n\nTime: 3pm for 15 min \n\n\n\n\n\nLocation: 8984 Tampa Ave\, Northridge\, CA 91324 \n\n\n\n\n\n\nPlease select your time slot for your in-person Welcome Visit to our Northridge Sylvan Center. \n\n\n\n\n[/vc_column_text]Schedule[/vc_column][/vc_row]
URL:https://thg-prevention.org/events/sylvan-learning-northridge/2027-02-11/
CATEGORIES:Prevention & Aftercare
ATTACH;FMTTYPE=image/jpeg:https://thg-prevention.org/wp-content/uploads/2023/08/1.jpg
END:VEVENT
BEGIN:VEVENT
DTSTART;TZID=UTC:20270211T153000
DTEND;TZID=UTC:20270211T173000
DTSTAMP:20260422T151159
CREATED:20230805T031006Z
LAST-MODIFIED:20230805T062103Z
UID:10000196-1802359800-1802367000@thg-prevention.org
SUMMARY:Sylvan Learning - Tarzana
DESCRIPTION:[vc_row][vc_column][vc_column_text] \nSylvan Learning Center Tarzana\nThe Help Group Drop-In Welcome Visit\n\n\nTime: 3:30pm for 15 min\n\n\n\n\nLocation: 18840 Ventura Blvd #219\, Tarzana\, CA 91356 \n\n\n\n\n\n\nPlease schedule your first in-person visit to our Sylvan Learning Center in Tarzana. \n\n\n\n[/vc_column_text]Schedule[/vc_column][/vc_row]
URL:https://thg-prevention.org/events/sylvan-learning-tarzana/2027-02-11/
CATEGORIES:Prevention & Aftercare
ATTACH;FMTTYPE=image/jpeg:https://thg-prevention.org/wp-content/uploads/2023/08/1.jpg
END:VEVENT
BEGIN:VEVENT
DTSTART;TZID=UTC:20270218T150000
DTEND;TZID=UTC:20270218T170000
DTSTAMP:20260422T151159
CREATED:20230805T031437Z
LAST-MODIFIED:20230805T062036Z
UID:10000720-1802962800-1802970000@thg-prevention.org
SUMMARY:Sylvan Learning - Northridge
DESCRIPTION:[vc_row][vc_column][vc_column_text] \n\n\nNorthridge Sylvan\nThe Help Group Drop-In Welcome Visit\n\n\n\n\n\nTime: 3pm for 15 min \n\n\n\n\n\nLocation: 8984 Tampa Ave\, Northridge\, CA 91324 \n\n\n\n\n\n\nPlease select your time slot for your in-person Welcome Visit to our Northridge Sylvan Center. \n\n\n\n\n[/vc_column_text]Schedule[/vc_column][/vc_row]
URL:https://thg-prevention.org/events/sylvan-learning-northridge/2027-02-18/
CATEGORIES:Prevention & Aftercare
ATTACH;FMTTYPE=image/jpeg:https://thg-prevention.org/wp-content/uploads/2023/08/1.jpg
END:VEVENT
BEGIN:VEVENT
DTSTART;TZID=UTC:20270218T153000
DTEND;TZID=UTC:20270218T173000
DTSTAMP:20260422T151159
CREATED:20230805T031006Z
LAST-MODIFIED:20230805T062103Z
UID:10000197-1802964600-1802971800@thg-prevention.org
SUMMARY:Sylvan Learning - Tarzana
DESCRIPTION:[vc_row][vc_column][vc_column_text] \nSylvan Learning Center Tarzana\nThe Help Group Drop-In Welcome Visit\n\n\nTime: 3:30pm for 15 min\n\n\n\n\nLocation: 18840 Ventura Blvd #219\, Tarzana\, CA 91356 \n\n\n\n\n\n\nPlease schedule your first in-person visit to our Sylvan Learning Center in Tarzana. \n\n\n\n[/vc_column_text]Schedule[/vc_column][/vc_row]
URL:https://thg-prevention.org/events/sylvan-learning-tarzana/2027-02-18/
CATEGORIES:Prevention & Aftercare
ATTACH;FMTTYPE=image/jpeg:https://thg-prevention.org/wp-content/uploads/2023/08/1.jpg
END:VEVENT
BEGIN:VEVENT
DTSTART;TZID=UTC:20270225T150000
DTEND;TZID=UTC:20270225T170000
DTSTAMP:20260422T151159
CREATED:20230805T031437Z
LAST-MODIFIED:20230805T062036Z
UID:10000721-1803567600-1803574800@thg-prevention.org
SUMMARY:Sylvan Learning - Northridge
DESCRIPTION:[vc_row][vc_column][vc_column_text] \n\n\nNorthridge Sylvan\nThe Help Group Drop-In Welcome Visit\n\n\n\n\n\nTime: 3pm for 15 min \n\n\n\n\n\nLocation: 8984 Tampa Ave\, Northridge\, CA 91324 \n\n\n\n\n\n\nPlease select your time slot for your in-person Welcome Visit to our Northridge Sylvan Center. \n\n\n\n\n[/vc_column_text]Schedule[/vc_column][/vc_row]
URL:https://thg-prevention.org/events/sylvan-learning-northridge/2027-02-25/
CATEGORIES:Prevention & Aftercare
ATTACH;FMTTYPE=image/jpeg:https://thg-prevention.org/wp-content/uploads/2023/08/1.jpg
END:VEVENT
BEGIN:VEVENT
DTSTART;TZID=UTC:20270225T153000
DTEND;TZID=UTC:20270225T173000
DTSTAMP:20260422T151159
CREATED:20230805T031006Z
LAST-MODIFIED:20230805T062103Z
UID:10000198-1803569400-1803576600@thg-prevention.org
SUMMARY:Sylvan Learning - Tarzana
DESCRIPTION:[vc_row][vc_column][vc_column_text] \nSylvan Learning Center Tarzana\nThe Help Group Drop-In Welcome Visit\n\n\nTime: 3:30pm for 15 min\n\n\n\n\nLocation: 18840 Ventura Blvd #219\, Tarzana\, CA 91356 \n\n\n\n\n\n\nPlease schedule your first in-person visit to our Sylvan Learning Center in Tarzana. \n\n\n\n[/vc_column_text]Schedule[/vc_column][/vc_row]
URL:https://thg-prevention.org/events/sylvan-learning-tarzana/2027-02-25/
CATEGORIES:Prevention & Aftercare
ATTACH;FMTTYPE=image/jpeg:https://thg-prevention.org/wp-content/uploads/2023/08/1.jpg
END:VEVENT
BEGIN:VEVENT
DTSTART;TZID=UTC:20270304T150000
DTEND;TZID=UTC:20270304T170000
DTSTAMP:20260422T151159
CREATED:20230805T031437Z
LAST-MODIFIED:20230805T062036Z
UID:10000722-1804172400-1804179600@thg-prevention.org
SUMMARY:Sylvan Learning - Northridge
DESCRIPTION:[vc_row][vc_column][vc_column_text] \n\n\nNorthridge Sylvan\nThe Help Group Drop-In Welcome Visit\n\n\n\n\n\nTime: 3pm for 15 min \n\n\n\n\n\nLocation: 8984 Tampa Ave\, Northridge\, CA 91324 \n\n\n\n\n\n\nPlease select your time slot for your in-person Welcome Visit to our Northridge Sylvan Center. \n\n\n\n\n[/vc_column_text]Schedule[/vc_column][/vc_row]
URL:https://thg-prevention.org/events/sylvan-learning-northridge/2027-03-04/
CATEGORIES:Prevention & Aftercare
ATTACH;FMTTYPE=image/jpeg:https://thg-prevention.org/wp-content/uploads/2023/08/1.jpg
END:VEVENT
BEGIN:VEVENT
DTSTART;TZID=UTC:20270304T153000
DTEND;TZID=UTC:20270304T173000
DTSTAMP:20260422T151159
CREATED:20230805T031006Z
LAST-MODIFIED:20230805T062103Z
UID:10000199-1804174200-1804181400@thg-prevention.org
SUMMARY:Sylvan Learning - Tarzana
DESCRIPTION:[vc_row][vc_column][vc_column_text] \nSylvan Learning Center Tarzana\nThe Help Group Drop-In Welcome Visit\n\n\nTime: 3:30pm for 15 min\n\n\n\n\nLocation: 18840 Ventura Blvd #219\, Tarzana\, CA 91356 \n\n\n\n\n\n\nPlease schedule your first in-person visit to our Sylvan Learning Center in Tarzana. \n\n\n\n[/vc_column_text]Schedule[/vc_column][/vc_row]
URL:https://thg-prevention.org/events/sylvan-learning-tarzana/2027-03-04/
CATEGORIES:Prevention & Aftercare
ATTACH;FMTTYPE=image/jpeg:https://thg-prevention.org/wp-content/uploads/2023/08/1.jpg
END:VEVENT
BEGIN:VEVENT
DTSTART;TZID=UTC:20270311T150000
DTEND;TZID=UTC:20270311T170000
DTSTAMP:20260422T151159
CREATED:20230805T031437Z
LAST-MODIFIED:20230805T062036Z
UID:10000723-1804777200-1804784400@thg-prevention.org
SUMMARY:Sylvan Learning - Northridge
DESCRIPTION:[vc_row][vc_column][vc_column_text] \n\n\nNorthridge Sylvan\nThe Help Group Drop-In Welcome Visit\n\n\n\n\n\nTime: 3pm for 15 min \n\n\n\n\n\nLocation: 8984 Tampa Ave\, Northridge\, CA 91324 \n\n\n\n\n\n\nPlease select your time slot for your in-person Welcome Visit to our Northridge Sylvan Center. \n\n\n\n\n[/vc_column_text]Schedule[/vc_column][/vc_row]
URL:https://thg-prevention.org/events/sylvan-learning-northridge/2027-03-11/
CATEGORIES:Prevention & Aftercare
ATTACH;FMTTYPE=image/jpeg:https://thg-prevention.org/wp-content/uploads/2023/08/1.jpg
END:VEVENT
BEGIN:VEVENT
DTSTART;TZID=UTC:20270311T153000
DTEND;TZID=UTC:20270311T173000
DTSTAMP:20260422T151159
CREATED:20230805T031006Z
LAST-MODIFIED:20230805T062103Z
UID:10000200-1804779000-1804786200@thg-prevention.org
SUMMARY:Sylvan Learning - Tarzana
DESCRIPTION:[vc_row][vc_column][vc_column_text] \nSylvan Learning Center Tarzana\nThe Help Group Drop-In Welcome Visit\n\n\nTime: 3:30pm for 15 min\n\n\n\n\nLocation: 18840 Ventura Blvd #219\, Tarzana\, CA 91356 \n\n\n\n\n\n\nPlease schedule your first in-person visit to our Sylvan Learning Center in Tarzana. \n\n\n\n[/vc_column_text]Schedule[/vc_column][/vc_row]
URL:https://thg-prevention.org/events/sylvan-learning-tarzana/2027-03-11/
CATEGORIES:Prevention & Aftercare
ATTACH;FMTTYPE=image/jpeg:https://thg-prevention.org/wp-content/uploads/2023/08/1.jpg
END:VEVENT
BEGIN:VEVENT
DTSTART;TZID=UTC:20270318T150000
DTEND;TZID=UTC:20270318T170000
DTSTAMP:20260422T151159
CREATED:20230805T031437Z
LAST-MODIFIED:20230805T062036Z
UID:10000724-1805382000-1805389200@thg-prevention.org
SUMMARY:Sylvan Learning - Northridge
DESCRIPTION:[vc_row][vc_column][vc_column_text] \n\n\nNorthridge Sylvan\nThe Help Group Drop-In Welcome Visit\n\n\n\n\n\nTime: 3pm for 15 min \n\n\n\n\n\nLocation: 8984 Tampa Ave\, Northridge\, CA 91324 \n\n\n\n\n\n\nPlease select your time slot for your in-person Welcome Visit to our Northridge Sylvan Center. \n\n\n\n\n[/vc_column_text]Schedule[/vc_column][/vc_row]
URL:https://thg-prevention.org/events/sylvan-learning-northridge/2027-03-18/
CATEGORIES:Prevention & Aftercare
ATTACH;FMTTYPE=image/jpeg:https://thg-prevention.org/wp-content/uploads/2023/08/1.jpg
END:VEVENT
BEGIN:VEVENT
DTSTART;TZID=UTC:20270318T153000
DTEND;TZID=UTC:20270318T173000
DTSTAMP:20260422T151159
CREATED:20230805T031006Z
LAST-MODIFIED:20230805T062103Z
UID:10000201-1805383800-1805391000@thg-prevention.org
SUMMARY:Sylvan Learning - Tarzana
DESCRIPTION:[vc_row][vc_column][vc_column_text] \nSylvan Learning Center Tarzana\nThe Help Group Drop-In Welcome Visit\n\n\nTime: 3:30pm for 15 min\n\n\n\n\nLocation: 18840 Ventura Blvd #219\, Tarzana\, CA 91356 \n\n\n\n\n\n\nPlease schedule your first in-person visit to our Sylvan Learning Center in Tarzana. \n\n\n\n[/vc_column_text]Schedule[/vc_column][/vc_row]
URL:https://thg-prevention.org/events/sylvan-learning-tarzana/2027-03-18/
CATEGORIES:Prevention & Aftercare
ATTACH;FMTTYPE=image/jpeg:https://thg-prevention.org/wp-content/uploads/2023/08/1.jpg
END:VEVENT
BEGIN:VEVENT
DTSTART;TZID=UTC:20270325T150000
DTEND;TZID=UTC:20270325T170000
DTSTAMP:20260422T151159
CREATED:20230805T031437Z
LAST-MODIFIED:20230805T062036Z
UID:10000725-1805986800-1805994000@thg-prevention.org
SUMMARY:Sylvan Learning - Northridge
DESCRIPTION:[vc_row][vc_column][vc_column_text] \n\n\nNorthridge Sylvan\nThe Help Group Drop-In Welcome Visit\n\n\n\n\n\nTime: 3pm for 15 min \n\n\n\n\n\nLocation: 8984 Tampa Ave\, Northridge\, CA 91324 \n\n\n\n\n\n\nPlease select your time slot for your in-person Welcome Visit to our Northridge Sylvan Center. \n\n\n\n\n[/vc_column_text]Schedule[/vc_column][/vc_row]
URL:https://thg-prevention.org/events/sylvan-learning-northridge/2027-03-25/
CATEGORIES:Prevention & Aftercare
ATTACH;FMTTYPE=image/jpeg:https://thg-prevention.org/wp-content/uploads/2023/08/1.jpg
END:VEVENT
BEGIN:VEVENT
DTSTART;TZID=UTC:20270325T153000
DTEND;TZID=UTC:20270325T173000
DTSTAMP:20260422T151159
CREATED:20230805T031006Z
LAST-MODIFIED:20230805T062103Z
UID:10000202-1805988600-1805995800@thg-prevention.org
SUMMARY:Sylvan Learning - Tarzana
DESCRIPTION:[vc_row][vc_column][vc_column_text] \nSylvan Learning Center Tarzana\nThe Help Group Drop-In Welcome Visit\n\n\nTime: 3:30pm for 15 min\n\n\n\n\nLocation: 18840 Ventura Blvd #219\, Tarzana\, CA 91356 \n\n\n\n\n\n\nPlease schedule your first in-person visit to our Sylvan Learning Center in Tarzana. \n\n\n\n[/vc_column_text]Schedule[/vc_column][/vc_row]
URL:https://thg-prevention.org/events/sylvan-learning-tarzana/2027-03-25/
CATEGORIES:Prevention & Aftercare
ATTACH;FMTTYPE=image/jpeg:https://thg-prevention.org/wp-content/uploads/2023/08/1.jpg
END:VEVENT
BEGIN:VEVENT
DTSTART;TZID=UTC:20270401T150000
DTEND;TZID=UTC:20270401T170000
DTSTAMP:20260422T151159
CREATED:20230805T031437Z
LAST-MODIFIED:20230805T062036Z
UID:10000726-1806591600-1806598800@thg-prevention.org
SUMMARY:Sylvan Learning - Northridge
DESCRIPTION:[vc_row][vc_column][vc_column_text] \n\n\nNorthridge Sylvan\nThe Help Group Drop-In Welcome Visit\n\n\n\n\n\nTime: 3pm for 15 min \n\n\n\n\n\nLocation: 8984 Tampa Ave\, Northridge\, CA 91324 \n\n\n\n\n\n\nPlease select your time slot for your in-person Welcome Visit to our Northridge Sylvan Center. \n\n\n\n\n[/vc_column_text]Schedule[/vc_column][/vc_row]
URL:https://thg-prevention.org/events/sylvan-learning-northridge/2027-04-01/
CATEGORIES:Prevention & Aftercare
ATTACH;FMTTYPE=image/jpeg:https://thg-prevention.org/wp-content/uploads/2023/08/1.jpg
END:VEVENT
BEGIN:VEVENT
DTSTART;TZID=UTC:20270401T153000
DTEND;TZID=UTC:20270401T173000
DTSTAMP:20260422T151159
CREATED:20230805T031006Z
LAST-MODIFIED:20230805T062103Z
UID:10000203-1806593400-1806600600@thg-prevention.org
SUMMARY:Sylvan Learning - Tarzana
DESCRIPTION:[vc_row][vc_column][vc_column_text] \nSylvan Learning Center Tarzana\nThe Help Group Drop-In Welcome Visit\n\n\nTime: 3:30pm for 15 min\n\n\n\n\nLocation: 18840 Ventura Blvd #219\, Tarzana\, CA 91356 \n\n\n\n\n\n\nPlease schedule your first in-person visit to our Sylvan Learning Center in Tarzana. \n\n\n\n[/vc_column_text]Schedule[/vc_column][/vc_row]
URL:https://thg-prevention.org/events/sylvan-learning-tarzana/2027-04-01/
CATEGORIES:Prevention & Aftercare
ATTACH;FMTTYPE=image/jpeg:https://thg-prevention.org/wp-content/uploads/2023/08/1.jpg
END:VEVENT
BEGIN:VEVENT
DTSTART;TZID=UTC:20270408T150000
DTEND;TZID=UTC:20270408T170000
DTSTAMP:20260422T151159
CREATED:20230805T031437Z
LAST-MODIFIED:20230805T062036Z
UID:10000727-1807196400-1807203600@thg-prevention.org
SUMMARY:Sylvan Learning - Northridge
DESCRIPTION:[vc_row][vc_column][vc_column_text] \n\n\nNorthridge Sylvan\nThe Help Group Drop-In Welcome Visit\n\n\n\n\n\nTime: 3pm for 15 min \n\n\n\n\n\nLocation: 8984 Tampa Ave\, Northridge\, CA 91324 \n\n\n\n\n\n\nPlease select your time slot for your in-person Welcome Visit to our Northridge Sylvan Center. \n\n\n\n\n[/vc_column_text]Schedule[/vc_column][/vc_row]
URL:https://thg-prevention.org/events/sylvan-learning-northridge/2027-04-08/
CATEGORIES:Prevention & Aftercare
ATTACH;FMTTYPE=image/jpeg:https://thg-prevention.org/wp-content/uploads/2023/08/1.jpg
END:VEVENT
BEGIN:VEVENT
DTSTART;TZID=UTC:20270408T153000
DTEND;TZID=UTC:20270408T173000
DTSTAMP:20260422T151159
CREATED:20230805T031006Z
LAST-MODIFIED:20230805T062103Z
UID:10000204-1807198200-1807205400@thg-prevention.org
SUMMARY:Sylvan Learning - Tarzana
DESCRIPTION:[vc_row][vc_column][vc_column_text] \nSylvan Learning Center Tarzana\nThe Help Group Drop-In Welcome Visit\n\n\nTime: 3:30pm for 15 min\n\n\n\n\nLocation: 18840 Ventura Blvd #219\, Tarzana\, CA 91356 \n\n\n\n\n\n\nPlease schedule your first in-person visit to our Sylvan Learning Center in Tarzana. \n\n\n\n[/vc_column_text]Schedule[/vc_column][/vc_row]
URL:https://thg-prevention.org/events/sylvan-learning-tarzana/2027-04-08/
CATEGORIES:Prevention & Aftercare
ATTACH;FMTTYPE=image/jpeg:https://thg-prevention.org/wp-content/uploads/2023/08/1.jpg
END:VEVENT
BEGIN:VEVENT
DTSTART;TZID=UTC:20270415T150000
DTEND;TZID=UTC:20270415T170000
DTSTAMP:20260422T151159
CREATED:20230805T031437Z
LAST-MODIFIED:20230805T062036Z
UID:10000728-1807801200-1807808400@thg-prevention.org
SUMMARY:Sylvan Learning - Northridge
DESCRIPTION:[vc_row][vc_column][vc_column_text] \n\n\nNorthridge Sylvan\nThe Help Group Drop-In Welcome Visit\n\n\n\n\n\nTime: 3pm for 15 min \n\n\n\n\n\nLocation: 8984 Tampa Ave\, Northridge\, CA 91324 \n\n\n\n\n\n\nPlease select your time slot for your in-person Welcome Visit to our Northridge Sylvan Center. \n\n\n\n\n[/vc_column_text]Schedule[/vc_column][/vc_row]
URL:https://thg-prevention.org/events/sylvan-learning-northridge/2027-04-15/
CATEGORIES:Prevention & Aftercare
ATTACH;FMTTYPE=image/jpeg:https://thg-prevention.org/wp-content/uploads/2023/08/1.jpg
END:VEVENT
BEGIN:VEVENT
DTSTART;TZID=UTC:20270415T153000
DTEND;TZID=UTC:20270415T173000
DTSTAMP:20260422T151159
CREATED:20230805T031006Z
LAST-MODIFIED:20230805T062103Z
UID:10000205-1807803000-1807810200@thg-prevention.org
SUMMARY:Sylvan Learning - Tarzana
DESCRIPTION:[vc_row][vc_column][vc_column_text] \nSylvan Learning Center Tarzana\nThe Help Group Drop-In Welcome Visit\n\n\nTime: 3:30pm for 15 min\n\n\n\n\nLocation: 18840 Ventura Blvd #219\, Tarzana\, CA 91356 \n\n\n\n\n\n\nPlease schedule your first in-person visit to our Sylvan Learning Center in Tarzana. \n\n\n\n[/vc_column_text]Schedule[/vc_column][/vc_row]
URL:https://thg-prevention.org/events/sylvan-learning-tarzana/2027-04-15/
CATEGORIES:Prevention & Aftercare
ATTACH;FMTTYPE=image/jpeg:https://thg-prevention.org/wp-content/uploads/2023/08/1.jpg
END:VEVENT
BEGIN:VEVENT
DTSTART;TZID=UTC:20270422T150000
DTEND;TZID=UTC:20270422T170000
DTSTAMP:20260422T151159
CREATED:20230805T031437Z
LAST-MODIFIED:20230805T062036Z
UID:10000729-1808406000-1808413200@thg-prevention.org
SUMMARY:Sylvan Learning - Northridge
DESCRIPTION:[vc_row][vc_column][vc_column_text] \n\n\nNorthridge Sylvan\nThe Help Group Drop-In Welcome Visit\n\n\n\n\n\nTime: 3pm for 15 min \n\n\n\n\n\nLocation: 8984 Tampa Ave\, Northridge\, CA 91324 \n\n\n\n\n\n\nPlease select your time slot for your in-person Welcome Visit to our Northridge Sylvan Center. \n\n\n\n\n[/vc_column_text]Schedule[/vc_column][/vc_row]
URL:https://thg-prevention.org/events/sylvan-learning-northridge/2027-04-22/
CATEGORIES:Prevention & Aftercare
ATTACH;FMTTYPE=image/jpeg:https://thg-prevention.org/wp-content/uploads/2023/08/1.jpg
END:VEVENT
BEGIN:VEVENT
DTSTART;TZID=UTC:20270422T153000
DTEND;TZID=UTC:20270422T173000
DTSTAMP:20260422T151159
CREATED:20230805T031006Z
LAST-MODIFIED:20230805T062103Z
UID:10000206-1808407800-1808415000@thg-prevention.org
SUMMARY:Sylvan Learning - Tarzana
DESCRIPTION:[vc_row][vc_column][vc_column_text] \nSylvan Learning Center Tarzana\nThe Help Group Drop-In Welcome Visit\n\n\nTime: 3:30pm for 15 min\n\n\n\n\nLocation: 18840 Ventura Blvd #219\, Tarzana\, CA 91356 \n\n\n\n\n\n\nPlease schedule your first in-person visit to our Sylvan Learning Center in Tarzana. \n\n\n\n[/vc_column_text]Schedule[/vc_column][/vc_row]
URL:https://thg-prevention.org/events/sylvan-learning-tarzana/2027-04-22/
CATEGORIES:Prevention & Aftercare
ATTACH;FMTTYPE=image/jpeg:https://thg-prevention.org/wp-content/uploads/2023/08/1.jpg
END:VEVENT
BEGIN:VEVENT
DTSTART;TZID=UTC:20270429T150000
DTEND;TZID=UTC:20270429T170000
DTSTAMP:20260422T151159
CREATED:20230805T031437Z
LAST-MODIFIED:20230805T062036Z
UID:10000730-1809010800-1809018000@thg-prevention.org
SUMMARY:Sylvan Learning - Northridge
DESCRIPTION:[vc_row][vc_column][vc_column_text] \n\n\nNorthridge Sylvan\nThe Help Group Drop-In Welcome Visit\n\n\n\n\n\nTime: 3pm for 15 min \n\n\n\n\n\nLocation: 8984 Tampa Ave\, Northridge\, CA 91324 \n\n\n\n\n\n\nPlease select your time slot for your in-person Welcome Visit to our Northridge Sylvan Center. \n\n\n\n\n[/vc_column_text]Schedule[/vc_column][/vc_row]
URL:https://thg-prevention.org/events/sylvan-learning-northridge/2027-04-29/
CATEGORIES:Prevention & Aftercare
ATTACH;FMTTYPE=image/jpeg:https://thg-prevention.org/wp-content/uploads/2023/08/1.jpg
END:VEVENT
BEGIN:VEVENT
DTSTART;TZID=UTC:20270429T153000
DTEND;TZID=UTC:20270429T173000
DTSTAMP:20260422T151159
CREATED:20230805T031006Z
LAST-MODIFIED:20230805T062103Z
UID:10000207-1809012600-1809019800@thg-prevention.org
SUMMARY:Sylvan Learning - Tarzana
DESCRIPTION:[vc_row][vc_column][vc_column_text] \nSylvan Learning Center Tarzana\nThe Help Group Drop-In Welcome Visit\n\n\nTime: 3:30pm for 15 min\n\n\n\n\nLocation: 18840 Ventura Blvd #219\, Tarzana\, CA 91356 \n\n\n\n\n\n\nPlease schedule your first in-person visit to our Sylvan Learning Center in Tarzana. \n\n\n\n[/vc_column_text]Schedule[/vc_column][/vc_row]
URL:https://thg-prevention.org/events/sylvan-learning-tarzana/2027-04-29/
CATEGORIES:Prevention & Aftercare
ATTACH;FMTTYPE=image/jpeg:https://thg-prevention.org/wp-content/uploads/2023/08/1.jpg
END:VEVENT
END:VCALENDAR