BEGIN:VCALENDAR
VERSION:2.0
PRODID:-//The Help Group&#039;s Prevention - ECPv6.15.20//NONSGML v1.0//EN
CALSCALE:GREGORIAN
METHOD:PUBLISH
X-ORIGINAL-URL:https://thg-prevention.org
X-WR-CALDESC:Events for The Help Group&#039;s Prevention
REFRESH-INTERVAL;VALUE=DURATION:PT1H
X-Robots-Tag:noindex
X-PUBLISHED-TTL:PT1H
BEGIN:VTIMEZONE
TZID:UTC
BEGIN:STANDARD
TZOFFSETFROM:+0000
TZOFFSETTO:+0000
TZNAME:UTC
DTSTART:20260101T000000
END:STANDARD
END:VTIMEZONE
BEGIN:VEVENT
DTSTART;TZID=UTC:20271104T150000
DTEND;TZID=UTC:20271104T170000
DTSTAMP:20260423T043105
CREATED:20230805T031437Z
LAST-MODIFIED:20230805T062036Z
UID:10000757-1825340400-1825347600@thg-prevention.org
SUMMARY:Sylvan Learning - Northridge
DESCRIPTION:[vc_row][vc_column][vc_column_text] \n\n\nNorthridge Sylvan\nThe Help Group Drop-In Welcome Visit\n\n\n\n\n\nTime: 3pm for 15 min \n\n\n\n\n\nLocation: 8984 Tampa Ave\, Northridge\, CA 91324 \n\n\n\n\n\n\nPlease select your time slot for your in-person Welcome Visit to our Northridge Sylvan Center. \n\n\n\n\n[/vc_column_text]Schedule[/vc_column][/vc_row]
URL:https://thg-prevention.org/events/sylvan-learning-northridge/2027-11-04/
CATEGORIES:Prevention & Aftercare
ATTACH;FMTTYPE=image/jpeg:https://thg-prevention.org/wp-content/uploads/2023/08/1.jpg
END:VEVENT
BEGIN:VEVENT
DTSTART;TZID=UTC:20271104T153000
DTEND;TZID=UTC:20271104T173000
DTSTAMP:20260423T043105
CREATED:20230805T031006Z
LAST-MODIFIED:20230805T062103Z
UID:10000234-1825342200-1825349400@thg-prevention.org
SUMMARY:Sylvan Learning - Tarzana
DESCRIPTION:[vc_row][vc_column][vc_column_text] \nSylvan Learning Center Tarzana\nThe Help Group Drop-In Welcome Visit\n\n\nTime: 3:30pm for 15 min\n\n\n\n\nLocation: 18840 Ventura Blvd #219\, Tarzana\, CA 91356 \n\n\n\n\n\n\nPlease schedule your first in-person visit to our Sylvan Learning Center in Tarzana. \n\n\n\n[/vc_column_text]Schedule[/vc_column][/vc_row]
URL:https://thg-prevention.org/events/sylvan-learning-tarzana/2027-11-04/
CATEGORIES:Prevention & Aftercare
ATTACH;FMTTYPE=image/jpeg:https://thg-prevention.org/wp-content/uploads/2023/08/1.jpg
END:VEVENT
BEGIN:VEVENT
DTSTART;TZID=UTC:20271111T150000
DTEND;TZID=UTC:20271111T170000
DTSTAMP:20260423T043105
CREATED:20230805T031437Z
LAST-MODIFIED:20230805T062036Z
UID:10000758-1825945200-1825952400@thg-prevention.org
SUMMARY:Sylvan Learning - Northridge
DESCRIPTION:[vc_row][vc_column][vc_column_text] \n\n\nNorthridge Sylvan\nThe Help Group Drop-In Welcome Visit\n\n\n\n\n\nTime: 3pm for 15 min \n\n\n\n\n\nLocation: 8984 Tampa Ave\, Northridge\, CA 91324 \n\n\n\n\n\n\nPlease select your time slot for your in-person Welcome Visit to our Northridge Sylvan Center. \n\n\n\n\n[/vc_column_text]Schedule[/vc_column][/vc_row]
URL:https://thg-prevention.org/events/sylvan-learning-northridge/2027-11-11/
CATEGORIES:Prevention & Aftercare
ATTACH;FMTTYPE=image/jpeg:https://thg-prevention.org/wp-content/uploads/2023/08/1.jpg
END:VEVENT
BEGIN:VEVENT
DTSTART;TZID=UTC:20271111T153000
DTEND;TZID=UTC:20271111T173000
DTSTAMP:20260423T043105
CREATED:20230805T031006Z
LAST-MODIFIED:20230805T062103Z
UID:10000235-1825947000-1825954200@thg-prevention.org
SUMMARY:Sylvan Learning - Tarzana
DESCRIPTION:[vc_row][vc_column][vc_column_text] \nSylvan Learning Center Tarzana\nThe Help Group Drop-In Welcome Visit\n\n\nTime: 3:30pm for 15 min\n\n\n\n\nLocation: 18840 Ventura Blvd #219\, Tarzana\, CA 91356 \n\n\n\n\n\n\nPlease schedule your first in-person visit to our Sylvan Learning Center in Tarzana. \n\n\n\n[/vc_column_text]Schedule[/vc_column][/vc_row]
URL:https://thg-prevention.org/events/sylvan-learning-tarzana/2027-11-11/
CATEGORIES:Prevention & Aftercare
ATTACH;FMTTYPE=image/jpeg:https://thg-prevention.org/wp-content/uploads/2023/08/1.jpg
END:VEVENT
BEGIN:VEVENT
DTSTART;TZID=UTC:20271118T150000
DTEND;TZID=UTC:20271118T170000
DTSTAMP:20260423T043105
CREATED:20230805T031437Z
LAST-MODIFIED:20230805T062036Z
UID:10000759-1826550000-1826557200@thg-prevention.org
SUMMARY:Sylvan Learning - Northridge
DESCRIPTION:[vc_row][vc_column][vc_column_text] \n\n\nNorthridge Sylvan\nThe Help Group Drop-In Welcome Visit\n\n\n\n\n\nTime: 3pm for 15 min \n\n\n\n\n\nLocation: 8984 Tampa Ave\, Northridge\, CA 91324 \n\n\n\n\n\n\nPlease select your time slot for your in-person Welcome Visit to our Northridge Sylvan Center. \n\n\n\n\n[/vc_column_text]Schedule[/vc_column][/vc_row]
URL:https://thg-prevention.org/events/sylvan-learning-northridge/2027-11-18/
CATEGORIES:Prevention & Aftercare
ATTACH;FMTTYPE=image/jpeg:https://thg-prevention.org/wp-content/uploads/2023/08/1.jpg
END:VEVENT
BEGIN:VEVENT
DTSTART;TZID=UTC:20271118T153000
DTEND;TZID=UTC:20271118T173000
DTSTAMP:20260423T043105
CREATED:20230805T031006Z
LAST-MODIFIED:20230805T062103Z
UID:10000236-1826551800-1826559000@thg-prevention.org
SUMMARY:Sylvan Learning - Tarzana
DESCRIPTION:[vc_row][vc_column][vc_column_text] \nSylvan Learning Center Tarzana\nThe Help Group Drop-In Welcome Visit\n\n\nTime: 3:30pm for 15 min\n\n\n\n\nLocation: 18840 Ventura Blvd #219\, Tarzana\, CA 91356 \n\n\n\n\n\n\nPlease schedule your first in-person visit to our Sylvan Learning Center in Tarzana. \n\n\n\n[/vc_column_text]Schedule[/vc_column][/vc_row]
URL:https://thg-prevention.org/events/sylvan-learning-tarzana/2027-11-18/
CATEGORIES:Prevention & Aftercare
ATTACH;FMTTYPE=image/jpeg:https://thg-prevention.org/wp-content/uploads/2023/08/1.jpg
END:VEVENT
BEGIN:VEVENT
DTSTART;TZID=UTC:20271125T150000
DTEND;TZID=UTC:20271125T170000
DTSTAMP:20260423T043105
CREATED:20230805T031437Z
LAST-MODIFIED:20230805T062036Z
UID:10000760-1827154800-1827162000@thg-prevention.org
SUMMARY:Sylvan Learning - Northridge
DESCRIPTION:[vc_row][vc_column][vc_column_text] \n\n\nNorthridge Sylvan\nThe Help Group Drop-In Welcome Visit\n\n\n\n\n\nTime: 3pm for 15 min \n\n\n\n\n\nLocation: 8984 Tampa Ave\, Northridge\, CA 91324 \n\n\n\n\n\n\nPlease select your time slot for your in-person Welcome Visit to our Northridge Sylvan Center. \n\n\n\n\n[/vc_column_text]Schedule[/vc_column][/vc_row]
URL:https://thg-prevention.org/events/sylvan-learning-northridge/2027-11-25/
CATEGORIES:Prevention & Aftercare
ATTACH;FMTTYPE=image/jpeg:https://thg-prevention.org/wp-content/uploads/2023/08/1.jpg
END:VEVENT
BEGIN:VEVENT
DTSTART;TZID=UTC:20271125T153000
DTEND;TZID=UTC:20271125T173000
DTSTAMP:20260423T043105
CREATED:20230805T031006Z
LAST-MODIFIED:20230805T062103Z
UID:10000237-1827156600-1827163800@thg-prevention.org
SUMMARY:Sylvan Learning - Tarzana
DESCRIPTION:[vc_row][vc_column][vc_column_text] \nSylvan Learning Center Tarzana\nThe Help Group Drop-In Welcome Visit\n\n\nTime: 3:30pm for 15 min\n\n\n\n\nLocation: 18840 Ventura Blvd #219\, Tarzana\, CA 91356 \n\n\n\n\n\n\nPlease schedule your first in-person visit to our Sylvan Learning Center in Tarzana. \n\n\n\n[/vc_column_text]Schedule[/vc_column][/vc_row]
URL:https://thg-prevention.org/events/sylvan-learning-tarzana/2027-11-25/
CATEGORIES:Prevention & Aftercare
ATTACH;FMTTYPE=image/jpeg:https://thg-prevention.org/wp-content/uploads/2023/08/1.jpg
END:VEVENT
BEGIN:VEVENT
DTSTART;TZID=UTC:20271202T150000
DTEND;TZID=UTC:20271202T170000
DTSTAMP:20260423T043105
CREATED:20230805T031437Z
LAST-MODIFIED:20230805T062036Z
UID:10000761-1827759600-1827766800@thg-prevention.org
SUMMARY:Sylvan Learning - Northridge
DESCRIPTION:[vc_row][vc_column][vc_column_text] \n\n\nNorthridge Sylvan\nThe Help Group Drop-In Welcome Visit\n\n\n\n\n\nTime: 3pm for 15 min \n\n\n\n\n\nLocation: 8984 Tampa Ave\, Northridge\, CA 91324 \n\n\n\n\n\n\nPlease select your time slot for your in-person Welcome Visit to our Northridge Sylvan Center. \n\n\n\n\n[/vc_column_text]Schedule[/vc_column][/vc_row]
URL:https://thg-prevention.org/events/sylvan-learning-northridge/2027-12-02/
CATEGORIES:Prevention & Aftercare
ATTACH;FMTTYPE=image/jpeg:https://thg-prevention.org/wp-content/uploads/2023/08/1.jpg
END:VEVENT
BEGIN:VEVENT
DTSTART;TZID=UTC:20271202T153000
DTEND;TZID=UTC:20271202T173000
DTSTAMP:20260423T043105
CREATED:20230805T031006Z
LAST-MODIFIED:20230805T062103Z
UID:10000238-1827761400-1827768600@thg-prevention.org
SUMMARY:Sylvan Learning - Tarzana
DESCRIPTION:[vc_row][vc_column][vc_column_text] \nSylvan Learning Center Tarzana\nThe Help Group Drop-In Welcome Visit\n\n\nTime: 3:30pm for 15 min\n\n\n\n\nLocation: 18840 Ventura Blvd #219\, Tarzana\, CA 91356 \n\n\n\n\n\n\nPlease schedule your first in-person visit to our Sylvan Learning Center in Tarzana. \n\n\n\n[/vc_column_text]Schedule[/vc_column][/vc_row]
URL:https://thg-prevention.org/events/sylvan-learning-tarzana/2027-12-02/
CATEGORIES:Prevention & Aftercare
ATTACH;FMTTYPE=image/jpeg:https://thg-prevention.org/wp-content/uploads/2023/08/1.jpg
END:VEVENT
BEGIN:VEVENT
DTSTART;TZID=UTC:20271209T150000
DTEND;TZID=UTC:20271209T170000
DTSTAMP:20260423T043105
CREATED:20230805T031437Z
LAST-MODIFIED:20230805T062036Z
UID:10000762-1828364400-1828371600@thg-prevention.org
SUMMARY:Sylvan Learning - Northridge
DESCRIPTION:[vc_row][vc_column][vc_column_text] \n\n\nNorthridge Sylvan\nThe Help Group Drop-In Welcome Visit\n\n\n\n\n\nTime: 3pm for 15 min \n\n\n\n\n\nLocation: 8984 Tampa Ave\, Northridge\, CA 91324 \n\n\n\n\n\n\nPlease select your time slot for your in-person Welcome Visit to our Northridge Sylvan Center. \n\n\n\n\n[/vc_column_text]Schedule[/vc_column][/vc_row]
URL:https://thg-prevention.org/events/sylvan-learning-northridge/2027-12-09/
CATEGORIES:Prevention & Aftercare
ATTACH;FMTTYPE=image/jpeg:https://thg-prevention.org/wp-content/uploads/2023/08/1.jpg
END:VEVENT
BEGIN:VEVENT
DTSTART;TZID=UTC:20271209T153000
DTEND;TZID=UTC:20271209T173000
DTSTAMP:20260423T043105
CREATED:20230805T031006Z
LAST-MODIFIED:20230805T062103Z
UID:10000239-1828366200-1828373400@thg-prevention.org
SUMMARY:Sylvan Learning - Tarzana
DESCRIPTION:[vc_row][vc_column][vc_column_text] \nSylvan Learning Center Tarzana\nThe Help Group Drop-In Welcome Visit\n\n\nTime: 3:30pm for 15 min\n\n\n\n\nLocation: 18840 Ventura Blvd #219\, Tarzana\, CA 91356 \n\n\n\n\n\n\nPlease schedule your first in-person visit to our Sylvan Learning Center in Tarzana. \n\n\n\n[/vc_column_text]Schedule[/vc_column][/vc_row]
URL:https://thg-prevention.org/events/sylvan-learning-tarzana/2027-12-09/
CATEGORIES:Prevention & Aftercare
ATTACH;FMTTYPE=image/jpeg:https://thg-prevention.org/wp-content/uploads/2023/08/1.jpg
END:VEVENT
BEGIN:VEVENT
DTSTART;TZID=UTC:20271216T150000
DTEND;TZID=UTC:20271216T170000
DTSTAMP:20260423T043105
CREATED:20230805T031437Z
LAST-MODIFIED:20230805T062036Z
UID:10000763-1828969200-1828976400@thg-prevention.org
SUMMARY:Sylvan Learning - Northridge
DESCRIPTION:[vc_row][vc_column][vc_column_text] \n\n\nNorthridge Sylvan\nThe Help Group Drop-In Welcome Visit\n\n\n\n\n\nTime: 3pm for 15 min \n\n\n\n\n\nLocation: 8984 Tampa Ave\, Northridge\, CA 91324 \n\n\n\n\n\n\nPlease select your time slot for your in-person Welcome Visit to our Northridge Sylvan Center. \n\n\n\n\n[/vc_column_text]Schedule[/vc_column][/vc_row]
URL:https://thg-prevention.org/events/sylvan-learning-northridge/2027-12-16/
CATEGORIES:Prevention & Aftercare
ATTACH;FMTTYPE=image/jpeg:https://thg-prevention.org/wp-content/uploads/2023/08/1.jpg
END:VEVENT
BEGIN:VEVENT
DTSTART;TZID=UTC:20271216T153000
DTEND;TZID=UTC:20271216T173000
DTSTAMP:20260423T043105
CREATED:20230805T031006Z
LAST-MODIFIED:20230805T062103Z
UID:10000240-1828971000-1828978200@thg-prevention.org
SUMMARY:Sylvan Learning - Tarzana
DESCRIPTION:[vc_row][vc_column][vc_column_text] \nSylvan Learning Center Tarzana\nThe Help Group Drop-In Welcome Visit\n\n\nTime: 3:30pm for 15 min\n\n\n\n\nLocation: 18840 Ventura Blvd #219\, Tarzana\, CA 91356 \n\n\n\n\n\n\nPlease schedule your first in-person visit to our Sylvan Learning Center in Tarzana. \n\n\n\n[/vc_column_text]Schedule[/vc_column][/vc_row]
URL:https://thg-prevention.org/events/sylvan-learning-tarzana/2027-12-16/
CATEGORIES:Prevention & Aftercare
ATTACH;FMTTYPE=image/jpeg:https://thg-prevention.org/wp-content/uploads/2023/08/1.jpg
END:VEVENT
BEGIN:VEVENT
DTSTART;TZID=UTC:20271223T150000
DTEND;TZID=UTC:20271223T170000
DTSTAMP:20260423T043105
CREATED:20230805T031437Z
LAST-MODIFIED:20230805T062036Z
UID:10000764-1829574000-1829581200@thg-prevention.org
SUMMARY:Sylvan Learning - Northridge
DESCRIPTION:[vc_row][vc_column][vc_column_text] \n\n\nNorthridge Sylvan\nThe Help Group Drop-In Welcome Visit\n\n\n\n\n\nTime: 3pm for 15 min \n\n\n\n\n\nLocation: 8984 Tampa Ave\, Northridge\, CA 91324 \n\n\n\n\n\n\nPlease select your time slot for your in-person Welcome Visit to our Northridge Sylvan Center. \n\n\n\n\n[/vc_column_text]Schedule[/vc_column][/vc_row]
URL:https://thg-prevention.org/events/sylvan-learning-northridge/2027-12-23/
CATEGORIES:Prevention & Aftercare
ATTACH;FMTTYPE=image/jpeg:https://thg-prevention.org/wp-content/uploads/2023/08/1.jpg
END:VEVENT
BEGIN:VEVENT
DTSTART;TZID=UTC:20271223T153000
DTEND;TZID=UTC:20271223T173000
DTSTAMP:20260423T043105
CREATED:20230805T031006Z
LAST-MODIFIED:20230805T062103Z
UID:10000241-1829575800-1829583000@thg-prevention.org
SUMMARY:Sylvan Learning - Tarzana
DESCRIPTION:[vc_row][vc_column][vc_column_text] \nSylvan Learning Center Tarzana\nThe Help Group Drop-In Welcome Visit\n\n\nTime: 3:30pm for 15 min\n\n\n\n\nLocation: 18840 Ventura Blvd #219\, Tarzana\, CA 91356 \n\n\n\n\n\n\nPlease schedule your first in-person visit to our Sylvan Learning Center in Tarzana. \n\n\n\n[/vc_column_text]Schedule[/vc_column][/vc_row]
URL:https://thg-prevention.org/events/sylvan-learning-tarzana/2027-12-23/
CATEGORIES:Prevention & Aftercare
ATTACH;FMTTYPE=image/jpeg:https://thg-prevention.org/wp-content/uploads/2023/08/1.jpg
END:VEVENT
BEGIN:VEVENT
DTSTART;TZID=UTC:20271230T150000
DTEND;TZID=UTC:20271230T170000
DTSTAMP:20260423T043105
CREATED:20230805T031437Z
LAST-MODIFIED:20230805T062036Z
UID:10000765-1830178800-1830186000@thg-prevention.org
SUMMARY:Sylvan Learning - Northridge
DESCRIPTION:[vc_row][vc_column][vc_column_text] \n\n\nNorthridge Sylvan\nThe Help Group Drop-In Welcome Visit\n\n\n\n\n\nTime: 3pm for 15 min \n\n\n\n\n\nLocation: 8984 Tampa Ave\, Northridge\, CA 91324 \n\n\n\n\n\n\nPlease select your time slot for your in-person Welcome Visit to our Northridge Sylvan Center. \n\n\n\n\n[/vc_column_text]Schedule[/vc_column][/vc_row]
URL:https://thg-prevention.org/events/sylvan-learning-northridge/2027-12-30/
CATEGORIES:Prevention & Aftercare
ATTACH;FMTTYPE=image/jpeg:https://thg-prevention.org/wp-content/uploads/2023/08/1.jpg
END:VEVENT
BEGIN:VEVENT
DTSTART;TZID=UTC:20271230T153000
DTEND;TZID=UTC:20271230T173000
DTSTAMP:20260423T043105
CREATED:20230805T031006Z
LAST-MODIFIED:20230805T062103Z
UID:10000242-1830180600-1830187800@thg-prevention.org
SUMMARY:Sylvan Learning - Tarzana
DESCRIPTION:[vc_row][vc_column][vc_column_text] \nSylvan Learning Center Tarzana\nThe Help Group Drop-In Welcome Visit\n\n\nTime: 3:30pm for 15 min\n\n\n\n\nLocation: 18840 Ventura Blvd #219\, Tarzana\, CA 91356 \n\n\n\n\n\n\nPlease schedule your first in-person visit to our Sylvan Learning Center in Tarzana. \n\n\n\n[/vc_column_text]Schedule[/vc_column][/vc_row]
URL:https://thg-prevention.org/events/sylvan-learning-tarzana/2027-12-30/
CATEGORIES:Prevention & Aftercare
ATTACH;FMTTYPE=image/jpeg:https://thg-prevention.org/wp-content/uploads/2023/08/1.jpg
END:VEVENT
BEGIN:VEVENT
DTSTART;TZID=UTC:20280106T150000
DTEND;TZID=UTC:20280106T170000
DTSTAMP:20260423T043105
CREATED:20230805T031437Z
LAST-MODIFIED:20230805T062036Z
UID:10000766-1830783600-1830790800@thg-prevention.org
SUMMARY:Sylvan Learning - Northridge
DESCRIPTION:[vc_row][vc_column][vc_column_text] \n\n\nNorthridge Sylvan\nThe Help Group Drop-In Welcome Visit\n\n\n\n\n\nTime: 3pm for 15 min \n\n\n\n\n\nLocation: 8984 Tampa Ave\, Northridge\, CA 91324 \n\n\n\n\n\n\nPlease select your time slot for your in-person Welcome Visit to our Northridge Sylvan Center. \n\n\n\n\n[/vc_column_text]Schedule[/vc_column][/vc_row]
URL:https://thg-prevention.org/events/sylvan-learning-northridge/2028-01-06/
CATEGORIES:Prevention & Aftercare
ATTACH;FMTTYPE=image/jpeg:https://thg-prevention.org/wp-content/uploads/2023/08/1.jpg
END:VEVENT
BEGIN:VEVENT
DTSTART;TZID=UTC:20280106T153000
DTEND;TZID=UTC:20280106T173000
DTSTAMP:20260423T043105
CREATED:20230805T031006Z
LAST-MODIFIED:20230805T062103Z
UID:10000243-1830785400-1830792600@thg-prevention.org
SUMMARY:Sylvan Learning - Tarzana
DESCRIPTION:[vc_row][vc_column][vc_column_text] \nSylvan Learning Center Tarzana\nThe Help Group Drop-In Welcome Visit\n\n\nTime: 3:30pm for 15 min\n\n\n\n\nLocation: 18840 Ventura Blvd #219\, Tarzana\, CA 91356 \n\n\n\n\n\n\nPlease schedule your first in-person visit to our Sylvan Learning Center in Tarzana. \n\n\n\n[/vc_column_text]Schedule[/vc_column][/vc_row]
URL:https://thg-prevention.org/events/sylvan-learning-tarzana/2028-01-06/
CATEGORIES:Prevention & Aftercare
ATTACH;FMTTYPE=image/jpeg:https://thg-prevention.org/wp-content/uploads/2023/08/1.jpg
END:VEVENT
BEGIN:VEVENT
DTSTART;TZID=UTC:20280113T150000
DTEND;TZID=UTC:20280113T170000
DTSTAMP:20260423T043105
CREATED:20230805T031437Z
LAST-MODIFIED:20230805T062036Z
UID:10000767-1831388400-1831395600@thg-prevention.org
SUMMARY:Sylvan Learning - Northridge
DESCRIPTION:[vc_row][vc_column][vc_column_text] \n\n\nNorthridge Sylvan\nThe Help Group Drop-In Welcome Visit\n\n\n\n\n\nTime: 3pm for 15 min \n\n\n\n\n\nLocation: 8984 Tampa Ave\, Northridge\, CA 91324 \n\n\n\n\n\n\nPlease select your time slot for your in-person Welcome Visit to our Northridge Sylvan Center. \n\n\n\n\n[/vc_column_text]Schedule[/vc_column][/vc_row]
URL:https://thg-prevention.org/events/sylvan-learning-northridge/2028-01-13/
CATEGORIES:Prevention & Aftercare
ATTACH;FMTTYPE=image/jpeg:https://thg-prevention.org/wp-content/uploads/2023/08/1.jpg
END:VEVENT
BEGIN:VEVENT
DTSTART;TZID=UTC:20280113T153000
DTEND;TZID=UTC:20280113T173000
DTSTAMP:20260423T043105
CREATED:20230805T031006Z
LAST-MODIFIED:20230805T062103Z
UID:10000244-1831390200-1831397400@thg-prevention.org
SUMMARY:Sylvan Learning - Tarzana
DESCRIPTION:[vc_row][vc_column][vc_column_text] \nSylvan Learning Center Tarzana\nThe Help Group Drop-In Welcome Visit\n\n\nTime: 3:30pm for 15 min\n\n\n\n\nLocation: 18840 Ventura Blvd #219\, Tarzana\, CA 91356 \n\n\n\n\n\n\nPlease schedule your first in-person visit to our Sylvan Learning Center in Tarzana. \n\n\n\n[/vc_column_text]Schedule[/vc_column][/vc_row]
URL:https://thg-prevention.org/events/sylvan-learning-tarzana/2028-01-13/
CATEGORIES:Prevention & Aftercare
ATTACH;FMTTYPE=image/jpeg:https://thg-prevention.org/wp-content/uploads/2023/08/1.jpg
END:VEVENT
BEGIN:VEVENT
DTSTART;TZID=UTC:20280120T150000
DTEND;TZID=UTC:20280120T170000
DTSTAMP:20260423T043105
CREATED:20230805T031437Z
LAST-MODIFIED:20230805T062036Z
UID:10000768-1831993200-1832000400@thg-prevention.org
SUMMARY:Sylvan Learning - Northridge
DESCRIPTION:[vc_row][vc_column][vc_column_text] \n\n\nNorthridge Sylvan\nThe Help Group Drop-In Welcome Visit\n\n\n\n\n\nTime: 3pm for 15 min \n\n\n\n\n\nLocation: 8984 Tampa Ave\, Northridge\, CA 91324 \n\n\n\n\n\n\nPlease select your time slot for your in-person Welcome Visit to our Northridge Sylvan Center. \n\n\n\n\n[/vc_column_text]Schedule[/vc_column][/vc_row]
URL:https://thg-prevention.org/events/sylvan-learning-northridge/2028-01-20/
CATEGORIES:Prevention & Aftercare
ATTACH;FMTTYPE=image/jpeg:https://thg-prevention.org/wp-content/uploads/2023/08/1.jpg
END:VEVENT
BEGIN:VEVENT
DTSTART;TZID=UTC:20280120T153000
DTEND;TZID=UTC:20280120T173000
DTSTAMP:20260423T043105
CREATED:20230805T031006Z
LAST-MODIFIED:20230805T062103Z
UID:10000245-1831995000-1832002200@thg-prevention.org
SUMMARY:Sylvan Learning - Tarzana
DESCRIPTION:[vc_row][vc_column][vc_column_text] \nSylvan Learning Center Tarzana\nThe Help Group Drop-In Welcome Visit\n\n\nTime: 3:30pm for 15 min\n\n\n\n\nLocation: 18840 Ventura Blvd #219\, Tarzana\, CA 91356 \n\n\n\n\n\n\nPlease schedule your first in-person visit to our Sylvan Learning Center in Tarzana. \n\n\n\n[/vc_column_text]Schedule[/vc_column][/vc_row]
URL:https://thg-prevention.org/events/sylvan-learning-tarzana/2028-01-20/
CATEGORIES:Prevention & Aftercare
ATTACH;FMTTYPE=image/jpeg:https://thg-prevention.org/wp-content/uploads/2023/08/1.jpg
END:VEVENT
BEGIN:VEVENT
DTSTART;TZID=UTC:20280127T150000
DTEND;TZID=UTC:20280127T170000
DTSTAMP:20260423T043105
CREATED:20230805T031437Z
LAST-MODIFIED:20230805T062036Z
UID:10000769-1832598000-1832605200@thg-prevention.org
SUMMARY:Sylvan Learning - Northridge
DESCRIPTION:[vc_row][vc_column][vc_column_text] \n\n\nNorthridge Sylvan\nThe Help Group Drop-In Welcome Visit\n\n\n\n\n\nTime: 3pm for 15 min \n\n\n\n\n\nLocation: 8984 Tampa Ave\, Northridge\, CA 91324 \n\n\n\n\n\n\nPlease select your time slot for your in-person Welcome Visit to our Northridge Sylvan Center. \n\n\n\n\n[/vc_column_text]Schedule[/vc_column][/vc_row]
URL:https://thg-prevention.org/events/sylvan-learning-northridge/2028-01-27/
CATEGORIES:Prevention & Aftercare
ATTACH;FMTTYPE=image/jpeg:https://thg-prevention.org/wp-content/uploads/2023/08/1.jpg
END:VEVENT
BEGIN:VEVENT
DTSTART;TZID=UTC:20280127T153000
DTEND;TZID=UTC:20280127T173000
DTSTAMP:20260423T043105
CREATED:20230805T031006Z
LAST-MODIFIED:20230805T062103Z
UID:10000246-1832599800-1832607000@thg-prevention.org
SUMMARY:Sylvan Learning - Tarzana
DESCRIPTION:[vc_row][vc_column][vc_column_text] \nSylvan Learning Center Tarzana\nThe Help Group Drop-In Welcome Visit\n\n\nTime: 3:30pm for 15 min\n\n\n\n\nLocation: 18840 Ventura Blvd #219\, Tarzana\, CA 91356 \n\n\n\n\n\n\nPlease schedule your first in-person visit to our Sylvan Learning Center in Tarzana. \n\n\n\n[/vc_column_text]Schedule[/vc_column][/vc_row]
URL:https://thg-prevention.org/events/sylvan-learning-tarzana/2028-01-27/
CATEGORIES:Prevention & Aftercare
ATTACH;FMTTYPE=image/jpeg:https://thg-prevention.org/wp-content/uploads/2023/08/1.jpg
END:VEVENT
BEGIN:VEVENT
DTSTART;TZID=UTC:20280203T150000
DTEND;TZID=UTC:20280203T170000
DTSTAMP:20260423T043105
CREATED:20230805T031437Z
LAST-MODIFIED:20230805T062036Z
UID:10000770-1833202800-1833210000@thg-prevention.org
SUMMARY:Sylvan Learning - Northridge
DESCRIPTION:[vc_row][vc_column][vc_column_text] \n\n\nNorthridge Sylvan\nThe Help Group Drop-In Welcome Visit\n\n\n\n\n\nTime: 3pm for 15 min \n\n\n\n\n\nLocation: 8984 Tampa Ave\, Northridge\, CA 91324 \n\n\n\n\n\n\nPlease select your time slot for your in-person Welcome Visit to our Northridge Sylvan Center. \n\n\n\n\n[/vc_column_text]Schedule[/vc_column][/vc_row]
URL:https://thg-prevention.org/events/sylvan-learning-northridge/2028-02-03/
CATEGORIES:Prevention & Aftercare
ATTACH;FMTTYPE=image/jpeg:https://thg-prevention.org/wp-content/uploads/2023/08/1.jpg
END:VEVENT
BEGIN:VEVENT
DTSTART;TZID=UTC:20280203T153000
DTEND;TZID=UTC:20280203T173000
DTSTAMP:20260423T043105
CREATED:20230805T031006Z
LAST-MODIFIED:20230805T062103Z
UID:10000247-1833204600-1833211800@thg-prevention.org
SUMMARY:Sylvan Learning - Tarzana
DESCRIPTION:[vc_row][vc_column][vc_column_text] \nSylvan Learning Center Tarzana\nThe Help Group Drop-In Welcome Visit\n\n\nTime: 3:30pm for 15 min\n\n\n\n\nLocation: 18840 Ventura Blvd #219\, Tarzana\, CA 91356 \n\n\n\n\n\n\nPlease schedule your first in-person visit to our Sylvan Learning Center in Tarzana. \n\n\n\n[/vc_column_text]Schedule[/vc_column][/vc_row]
URL:https://thg-prevention.org/events/sylvan-learning-tarzana/2028-02-03/
CATEGORIES:Prevention & Aftercare
ATTACH;FMTTYPE=image/jpeg:https://thg-prevention.org/wp-content/uploads/2023/08/1.jpg
END:VEVENT
BEGIN:VEVENT
DTSTART;TZID=UTC:20280210T150000
DTEND;TZID=UTC:20280210T170000
DTSTAMP:20260423T043105
CREATED:20230805T031437Z
LAST-MODIFIED:20230805T062036Z
UID:10000771-1833807600-1833814800@thg-prevention.org
SUMMARY:Sylvan Learning - Northridge
DESCRIPTION:[vc_row][vc_column][vc_column_text] \n\n\nNorthridge Sylvan\nThe Help Group Drop-In Welcome Visit\n\n\n\n\n\nTime: 3pm for 15 min \n\n\n\n\n\nLocation: 8984 Tampa Ave\, Northridge\, CA 91324 \n\n\n\n\n\n\nPlease select your time slot for your in-person Welcome Visit to our Northridge Sylvan Center. \n\n\n\n\n[/vc_column_text]Schedule[/vc_column][/vc_row]
URL:https://thg-prevention.org/events/sylvan-learning-northridge/2028-02-10/
CATEGORIES:Prevention & Aftercare
ATTACH;FMTTYPE=image/jpeg:https://thg-prevention.org/wp-content/uploads/2023/08/1.jpg
END:VEVENT
BEGIN:VEVENT
DTSTART;TZID=UTC:20280210T153000
DTEND;TZID=UTC:20280210T173000
DTSTAMP:20260423T043105
CREATED:20230805T031006Z
LAST-MODIFIED:20230805T062103Z
UID:10000248-1833809400-1833816600@thg-prevention.org
SUMMARY:Sylvan Learning - Tarzana
DESCRIPTION:[vc_row][vc_column][vc_column_text] \nSylvan Learning Center Tarzana\nThe Help Group Drop-In Welcome Visit\n\n\nTime: 3:30pm for 15 min\n\n\n\n\nLocation: 18840 Ventura Blvd #219\, Tarzana\, CA 91356 \n\n\n\n\n\n\nPlease schedule your first in-person visit to our Sylvan Learning Center in Tarzana. \n\n\n\n[/vc_column_text]Schedule[/vc_column][/vc_row]
URL:https://thg-prevention.org/events/sylvan-learning-tarzana/2028-02-10/
CATEGORIES:Prevention & Aftercare
ATTACH;FMTTYPE=image/jpeg:https://thg-prevention.org/wp-content/uploads/2023/08/1.jpg
END:VEVENT
END:VCALENDAR