BEGIN:VCALENDAR
VERSION:2.0
PRODID:-//The Help Group&#039;s Prevention - ECPv6.15.20//NONSGML v1.0//EN
CALSCALE:GREGORIAN
METHOD:PUBLISH
X-ORIGINAL-URL:https://thg-prevention.org
X-WR-CALDESC:Events for The Help Group&#039;s Prevention
REFRESH-INTERVAL;VALUE=DURATION:PT1H
X-Robots-Tag:noindex
X-PUBLISHED-TTL:PT1H
BEGIN:VTIMEZONE
TZID:UTC
BEGIN:STANDARD
TZOFFSETFROM:+0000
TZOFFSETTO:+0000
TZNAME:UTC
DTSTART:20260101T000000
END:STANDARD
END:VTIMEZONE
BEGIN:VEVENT
DTSTART;TZID=UTC:20270617T150000
DTEND;TZID=UTC:20270617T170000
DTSTAMP:20260422T223510
CREATED:20230805T031437Z
LAST-MODIFIED:20230805T062036Z
UID:10000737-1813244400-1813251600@thg-prevention.org
SUMMARY:Sylvan Learning - Northridge
DESCRIPTION:[vc_row][vc_column][vc_column_text] \n\n\nNorthridge Sylvan\nThe Help Group Drop-In Welcome Visit\n\n\n\n\n\nTime: 3pm for 15 min \n\n\n\n\n\nLocation: 8984 Tampa Ave\, Northridge\, CA 91324 \n\n\n\n\n\n\nPlease select your time slot for your in-person Welcome Visit to our Northridge Sylvan Center. \n\n\n\n\n[/vc_column_text]Schedule[/vc_column][/vc_row]
URL:https://thg-prevention.org/events/sylvan-learning-northridge/2027-06-17/
CATEGORIES:Prevention & Aftercare
ATTACH;FMTTYPE=image/jpeg:https://thg-prevention.org/wp-content/uploads/2023/08/1.jpg
END:VEVENT
BEGIN:VEVENT
DTSTART;TZID=UTC:20270617T153000
DTEND;TZID=UTC:20270617T173000
DTSTAMP:20260422T223510
CREATED:20230805T031006Z
LAST-MODIFIED:20230805T062103Z
UID:10000214-1813246200-1813253400@thg-prevention.org
SUMMARY:Sylvan Learning - Tarzana
DESCRIPTION:[vc_row][vc_column][vc_column_text] \nSylvan Learning Center Tarzana\nThe Help Group Drop-In Welcome Visit\n\n\nTime: 3:30pm for 15 min\n\n\n\n\nLocation: 18840 Ventura Blvd #219\, Tarzana\, CA 91356 \n\n\n\n\n\n\nPlease schedule your first in-person visit to our Sylvan Learning Center in Tarzana. \n\n\n\n[/vc_column_text]Schedule[/vc_column][/vc_row]
URL:https://thg-prevention.org/events/sylvan-learning-tarzana/2027-06-17/
CATEGORIES:Prevention & Aftercare
ATTACH;FMTTYPE=image/jpeg:https://thg-prevention.org/wp-content/uploads/2023/08/1.jpg
END:VEVENT
BEGIN:VEVENT
DTSTART;TZID=UTC:20270624T150000
DTEND;TZID=UTC:20270624T170000
DTSTAMP:20260422T223510
CREATED:20230805T031437Z
LAST-MODIFIED:20230805T062036Z
UID:10000738-1813849200-1813856400@thg-prevention.org
SUMMARY:Sylvan Learning - Northridge
DESCRIPTION:[vc_row][vc_column][vc_column_text] \n\n\nNorthridge Sylvan\nThe Help Group Drop-In Welcome Visit\n\n\n\n\n\nTime: 3pm for 15 min \n\n\n\n\n\nLocation: 8984 Tampa Ave\, Northridge\, CA 91324 \n\n\n\n\n\n\nPlease select your time slot for your in-person Welcome Visit to our Northridge Sylvan Center. \n\n\n\n\n[/vc_column_text]Schedule[/vc_column][/vc_row]
URL:https://thg-prevention.org/events/sylvan-learning-northridge/2027-06-24/
CATEGORIES:Prevention & Aftercare
ATTACH;FMTTYPE=image/jpeg:https://thg-prevention.org/wp-content/uploads/2023/08/1.jpg
END:VEVENT
BEGIN:VEVENT
DTSTART;TZID=UTC:20270624T153000
DTEND;TZID=UTC:20270624T173000
DTSTAMP:20260422T223510
CREATED:20230805T031006Z
LAST-MODIFIED:20230805T062103Z
UID:10000215-1813851000-1813858200@thg-prevention.org
SUMMARY:Sylvan Learning - Tarzana
DESCRIPTION:[vc_row][vc_column][vc_column_text] \nSylvan Learning Center Tarzana\nThe Help Group Drop-In Welcome Visit\n\n\nTime: 3:30pm for 15 min\n\n\n\n\nLocation: 18840 Ventura Blvd #219\, Tarzana\, CA 91356 \n\n\n\n\n\n\nPlease schedule your first in-person visit to our Sylvan Learning Center in Tarzana. \n\n\n\n[/vc_column_text]Schedule[/vc_column][/vc_row]
URL:https://thg-prevention.org/events/sylvan-learning-tarzana/2027-06-24/
CATEGORIES:Prevention & Aftercare
ATTACH;FMTTYPE=image/jpeg:https://thg-prevention.org/wp-content/uploads/2023/08/1.jpg
END:VEVENT
BEGIN:VEVENT
DTSTART;TZID=UTC:20270701T150000
DTEND;TZID=UTC:20270701T170000
DTSTAMP:20260422T223510
CREATED:20230805T031437Z
LAST-MODIFIED:20230805T062036Z
UID:10000739-1814454000-1814461200@thg-prevention.org
SUMMARY:Sylvan Learning - Northridge
DESCRIPTION:[vc_row][vc_column][vc_column_text] \n\n\nNorthridge Sylvan\nThe Help Group Drop-In Welcome Visit\n\n\n\n\n\nTime: 3pm for 15 min \n\n\n\n\n\nLocation: 8984 Tampa Ave\, Northridge\, CA 91324 \n\n\n\n\n\n\nPlease select your time slot for your in-person Welcome Visit to our Northridge Sylvan Center. \n\n\n\n\n[/vc_column_text]Schedule[/vc_column][/vc_row]
URL:https://thg-prevention.org/events/sylvan-learning-northridge/2027-07-01/
CATEGORIES:Prevention & Aftercare
ATTACH;FMTTYPE=image/jpeg:https://thg-prevention.org/wp-content/uploads/2023/08/1.jpg
END:VEVENT
BEGIN:VEVENT
DTSTART;TZID=UTC:20270701T153000
DTEND;TZID=UTC:20270701T173000
DTSTAMP:20260422T223510
CREATED:20230805T031006Z
LAST-MODIFIED:20230805T062103Z
UID:10000216-1814455800-1814463000@thg-prevention.org
SUMMARY:Sylvan Learning - Tarzana
DESCRIPTION:[vc_row][vc_column][vc_column_text] \nSylvan Learning Center Tarzana\nThe Help Group Drop-In Welcome Visit\n\n\nTime: 3:30pm for 15 min\n\n\n\n\nLocation: 18840 Ventura Blvd #219\, Tarzana\, CA 91356 \n\n\n\n\n\n\nPlease schedule your first in-person visit to our Sylvan Learning Center in Tarzana. \n\n\n\n[/vc_column_text]Schedule[/vc_column][/vc_row]
URL:https://thg-prevention.org/events/sylvan-learning-tarzana/2027-07-01/
CATEGORIES:Prevention & Aftercare
ATTACH;FMTTYPE=image/jpeg:https://thg-prevention.org/wp-content/uploads/2023/08/1.jpg
END:VEVENT
BEGIN:VEVENT
DTSTART;TZID=UTC:20270708T150000
DTEND;TZID=UTC:20270708T170000
DTSTAMP:20260422T223510
CREATED:20230805T031437Z
LAST-MODIFIED:20230805T062036Z
UID:10000740-1815058800-1815066000@thg-prevention.org
SUMMARY:Sylvan Learning - Northridge
DESCRIPTION:[vc_row][vc_column][vc_column_text] \n\n\nNorthridge Sylvan\nThe Help Group Drop-In Welcome Visit\n\n\n\n\n\nTime: 3pm for 15 min \n\n\n\n\n\nLocation: 8984 Tampa Ave\, Northridge\, CA 91324 \n\n\n\n\n\n\nPlease select your time slot for your in-person Welcome Visit to our Northridge Sylvan Center. \n\n\n\n\n[/vc_column_text]Schedule[/vc_column][/vc_row]
URL:https://thg-prevention.org/events/sylvan-learning-northridge/2027-07-08/
CATEGORIES:Prevention & Aftercare
ATTACH;FMTTYPE=image/jpeg:https://thg-prevention.org/wp-content/uploads/2023/08/1.jpg
END:VEVENT
BEGIN:VEVENT
DTSTART;TZID=UTC:20270708T153000
DTEND;TZID=UTC:20270708T173000
DTSTAMP:20260422T223510
CREATED:20230805T031006Z
LAST-MODIFIED:20230805T062103Z
UID:10000217-1815060600-1815067800@thg-prevention.org
SUMMARY:Sylvan Learning - Tarzana
DESCRIPTION:[vc_row][vc_column][vc_column_text] \nSylvan Learning Center Tarzana\nThe Help Group Drop-In Welcome Visit\n\n\nTime: 3:30pm for 15 min\n\n\n\n\nLocation: 18840 Ventura Blvd #219\, Tarzana\, CA 91356 \n\n\n\n\n\n\nPlease schedule your first in-person visit to our Sylvan Learning Center in Tarzana. \n\n\n\n[/vc_column_text]Schedule[/vc_column][/vc_row]
URL:https://thg-prevention.org/events/sylvan-learning-tarzana/2027-07-08/
CATEGORIES:Prevention & Aftercare
ATTACH;FMTTYPE=image/jpeg:https://thg-prevention.org/wp-content/uploads/2023/08/1.jpg
END:VEVENT
BEGIN:VEVENT
DTSTART;TZID=UTC:20270715T150000
DTEND;TZID=UTC:20270715T170000
DTSTAMP:20260422T223510
CREATED:20230805T031437Z
LAST-MODIFIED:20230805T062036Z
UID:10000741-1815663600-1815670800@thg-prevention.org
SUMMARY:Sylvan Learning - Northridge
DESCRIPTION:[vc_row][vc_column][vc_column_text] \n\n\nNorthridge Sylvan\nThe Help Group Drop-In Welcome Visit\n\n\n\n\n\nTime: 3pm for 15 min \n\n\n\n\n\nLocation: 8984 Tampa Ave\, Northridge\, CA 91324 \n\n\n\n\n\n\nPlease select your time slot for your in-person Welcome Visit to our Northridge Sylvan Center. \n\n\n\n\n[/vc_column_text]Schedule[/vc_column][/vc_row]
URL:https://thg-prevention.org/events/sylvan-learning-northridge/2027-07-15/
CATEGORIES:Prevention & Aftercare
ATTACH;FMTTYPE=image/jpeg:https://thg-prevention.org/wp-content/uploads/2023/08/1.jpg
END:VEVENT
BEGIN:VEVENT
DTSTART;TZID=UTC:20270715T153000
DTEND;TZID=UTC:20270715T173000
DTSTAMP:20260422T223510
CREATED:20230805T031006Z
LAST-MODIFIED:20230805T062103Z
UID:10000218-1815665400-1815672600@thg-prevention.org
SUMMARY:Sylvan Learning - Tarzana
DESCRIPTION:[vc_row][vc_column][vc_column_text] \nSylvan Learning Center Tarzana\nThe Help Group Drop-In Welcome Visit\n\n\nTime: 3:30pm for 15 min\n\n\n\n\nLocation: 18840 Ventura Blvd #219\, Tarzana\, CA 91356 \n\n\n\n\n\n\nPlease schedule your first in-person visit to our Sylvan Learning Center in Tarzana. \n\n\n\n[/vc_column_text]Schedule[/vc_column][/vc_row]
URL:https://thg-prevention.org/events/sylvan-learning-tarzana/2027-07-15/
CATEGORIES:Prevention & Aftercare
ATTACH;FMTTYPE=image/jpeg:https://thg-prevention.org/wp-content/uploads/2023/08/1.jpg
END:VEVENT
BEGIN:VEVENT
DTSTART;TZID=UTC:20270722T150000
DTEND;TZID=UTC:20270722T170000
DTSTAMP:20260422T223510
CREATED:20230805T031437Z
LAST-MODIFIED:20230805T062036Z
UID:10000742-1816268400-1816275600@thg-prevention.org
SUMMARY:Sylvan Learning - Northridge
DESCRIPTION:[vc_row][vc_column][vc_column_text] \n\n\nNorthridge Sylvan\nThe Help Group Drop-In Welcome Visit\n\n\n\n\n\nTime: 3pm for 15 min \n\n\n\n\n\nLocation: 8984 Tampa Ave\, Northridge\, CA 91324 \n\n\n\n\n\n\nPlease select your time slot for your in-person Welcome Visit to our Northridge Sylvan Center. \n\n\n\n\n[/vc_column_text]Schedule[/vc_column][/vc_row]
URL:https://thg-prevention.org/events/sylvan-learning-northridge/2027-07-22/
CATEGORIES:Prevention & Aftercare
ATTACH;FMTTYPE=image/jpeg:https://thg-prevention.org/wp-content/uploads/2023/08/1.jpg
END:VEVENT
BEGIN:VEVENT
DTSTART;TZID=UTC:20270722T153000
DTEND;TZID=UTC:20270722T173000
DTSTAMP:20260422T223510
CREATED:20230805T031006Z
LAST-MODIFIED:20230805T062103Z
UID:10000219-1816270200-1816277400@thg-prevention.org
SUMMARY:Sylvan Learning - Tarzana
DESCRIPTION:[vc_row][vc_column][vc_column_text] \nSylvan Learning Center Tarzana\nThe Help Group Drop-In Welcome Visit\n\n\nTime: 3:30pm for 15 min\n\n\n\n\nLocation: 18840 Ventura Blvd #219\, Tarzana\, CA 91356 \n\n\n\n\n\n\nPlease schedule your first in-person visit to our Sylvan Learning Center in Tarzana. \n\n\n\n[/vc_column_text]Schedule[/vc_column][/vc_row]
URL:https://thg-prevention.org/events/sylvan-learning-tarzana/2027-07-22/
CATEGORIES:Prevention & Aftercare
ATTACH;FMTTYPE=image/jpeg:https://thg-prevention.org/wp-content/uploads/2023/08/1.jpg
END:VEVENT
BEGIN:VEVENT
DTSTART;TZID=UTC:20270729T150000
DTEND;TZID=UTC:20270729T170000
DTSTAMP:20260422T223510
CREATED:20230805T031437Z
LAST-MODIFIED:20230805T062036Z
UID:10000743-1816873200-1816880400@thg-prevention.org
SUMMARY:Sylvan Learning - Northridge
DESCRIPTION:[vc_row][vc_column][vc_column_text] \n\n\nNorthridge Sylvan\nThe Help Group Drop-In Welcome Visit\n\n\n\n\n\nTime: 3pm for 15 min \n\n\n\n\n\nLocation: 8984 Tampa Ave\, Northridge\, CA 91324 \n\n\n\n\n\n\nPlease select your time slot for your in-person Welcome Visit to our Northridge Sylvan Center. \n\n\n\n\n[/vc_column_text]Schedule[/vc_column][/vc_row]
URL:https://thg-prevention.org/events/sylvan-learning-northridge/2027-07-29/
CATEGORIES:Prevention & Aftercare
ATTACH;FMTTYPE=image/jpeg:https://thg-prevention.org/wp-content/uploads/2023/08/1.jpg
END:VEVENT
BEGIN:VEVENT
DTSTART;TZID=UTC:20270729T153000
DTEND;TZID=UTC:20270729T173000
DTSTAMP:20260422T223510
CREATED:20230805T031006Z
LAST-MODIFIED:20230805T062103Z
UID:10000220-1816875000-1816882200@thg-prevention.org
SUMMARY:Sylvan Learning - Tarzana
DESCRIPTION:[vc_row][vc_column][vc_column_text] \nSylvan Learning Center Tarzana\nThe Help Group Drop-In Welcome Visit\n\n\nTime: 3:30pm for 15 min\n\n\n\n\nLocation: 18840 Ventura Blvd #219\, Tarzana\, CA 91356 \n\n\n\n\n\n\nPlease schedule your first in-person visit to our Sylvan Learning Center in Tarzana. \n\n\n\n[/vc_column_text]Schedule[/vc_column][/vc_row]
URL:https://thg-prevention.org/events/sylvan-learning-tarzana/2027-07-29/
CATEGORIES:Prevention & Aftercare
ATTACH;FMTTYPE=image/jpeg:https://thg-prevention.org/wp-content/uploads/2023/08/1.jpg
END:VEVENT
BEGIN:VEVENT
DTSTART;TZID=UTC:20270805T150000
DTEND;TZID=UTC:20270805T170000
DTSTAMP:20260422T223510
CREATED:20230805T031437Z
LAST-MODIFIED:20230805T062036Z
UID:10000744-1817478000-1817485200@thg-prevention.org
SUMMARY:Sylvan Learning - Northridge
DESCRIPTION:[vc_row][vc_column][vc_column_text] \n\n\nNorthridge Sylvan\nThe Help Group Drop-In Welcome Visit\n\n\n\n\n\nTime: 3pm for 15 min \n\n\n\n\n\nLocation: 8984 Tampa Ave\, Northridge\, CA 91324 \n\n\n\n\n\n\nPlease select your time slot for your in-person Welcome Visit to our Northridge Sylvan Center. \n\n\n\n\n[/vc_column_text]Schedule[/vc_column][/vc_row]
URL:https://thg-prevention.org/events/sylvan-learning-northridge/2027-08-05/
CATEGORIES:Prevention & Aftercare
ATTACH;FMTTYPE=image/jpeg:https://thg-prevention.org/wp-content/uploads/2023/08/1.jpg
END:VEVENT
BEGIN:VEVENT
DTSTART;TZID=UTC:20270805T153000
DTEND;TZID=UTC:20270805T173000
DTSTAMP:20260422T223510
CREATED:20230805T031006Z
LAST-MODIFIED:20230805T062103Z
UID:10000221-1817479800-1817487000@thg-prevention.org
SUMMARY:Sylvan Learning - Tarzana
DESCRIPTION:[vc_row][vc_column][vc_column_text] \nSylvan Learning Center Tarzana\nThe Help Group Drop-In Welcome Visit\n\n\nTime: 3:30pm for 15 min\n\n\n\n\nLocation: 18840 Ventura Blvd #219\, Tarzana\, CA 91356 \n\n\n\n\n\n\nPlease schedule your first in-person visit to our Sylvan Learning Center in Tarzana. \n\n\n\n[/vc_column_text]Schedule[/vc_column][/vc_row]
URL:https://thg-prevention.org/events/sylvan-learning-tarzana/2027-08-05/
CATEGORIES:Prevention & Aftercare
ATTACH;FMTTYPE=image/jpeg:https://thg-prevention.org/wp-content/uploads/2023/08/1.jpg
END:VEVENT
BEGIN:VEVENT
DTSTART;TZID=UTC:20270812T150000
DTEND;TZID=UTC:20270812T170000
DTSTAMP:20260422T223510
CREATED:20230805T031437Z
LAST-MODIFIED:20230805T062036Z
UID:10000745-1818082800-1818090000@thg-prevention.org
SUMMARY:Sylvan Learning - Northridge
DESCRIPTION:[vc_row][vc_column][vc_column_text] \n\n\nNorthridge Sylvan\nThe Help Group Drop-In Welcome Visit\n\n\n\n\n\nTime: 3pm for 15 min \n\n\n\n\n\nLocation: 8984 Tampa Ave\, Northridge\, CA 91324 \n\n\n\n\n\n\nPlease select your time slot for your in-person Welcome Visit to our Northridge Sylvan Center. \n\n\n\n\n[/vc_column_text]Schedule[/vc_column][/vc_row]
URL:https://thg-prevention.org/events/sylvan-learning-northridge/2027-08-12/
CATEGORIES:Prevention & Aftercare
ATTACH;FMTTYPE=image/jpeg:https://thg-prevention.org/wp-content/uploads/2023/08/1.jpg
END:VEVENT
BEGIN:VEVENT
DTSTART;TZID=UTC:20270812T153000
DTEND;TZID=UTC:20270812T173000
DTSTAMP:20260422T223510
CREATED:20230805T031006Z
LAST-MODIFIED:20230805T062103Z
UID:10000222-1818084600-1818091800@thg-prevention.org
SUMMARY:Sylvan Learning - Tarzana
DESCRIPTION:[vc_row][vc_column][vc_column_text] \nSylvan Learning Center Tarzana\nThe Help Group Drop-In Welcome Visit\n\n\nTime: 3:30pm for 15 min\n\n\n\n\nLocation: 18840 Ventura Blvd #219\, Tarzana\, CA 91356 \n\n\n\n\n\n\nPlease schedule your first in-person visit to our Sylvan Learning Center in Tarzana. \n\n\n\n[/vc_column_text]Schedule[/vc_column][/vc_row]
URL:https://thg-prevention.org/events/sylvan-learning-tarzana/2027-08-12/
CATEGORIES:Prevention & Aftercare
ATTACH;FMTTYPE=image/jpeg:https://thg-prevention.org/wp-content/uploads/2023/08/1.jpg
END:VEVENT
BEGIN:VEVENT
DTSTART;TZID=UTC:20270819T150000
DTEND;TZID=UTC:20270819T170000
DTSTAMP:20260422T223510
CREATED:20230805T031437Z
LAST-MODIFIED:20230805T062036Z
UID:10000746-1818687600-1818694800@thg-prevention.org
SUMMARY:Sylvan Learning - Northridge
DESCRIPTION:[vc_row][vc_column][vc_column_text] \n\n\nNorthridge Sylvan\nThe Help Group Drop-In Welcome Visit\n\n\n\n\n\nTime: 3pm for 15 min \n\n\n\n\n\nLocation: 8984 Tampa Ave\, Northridge\, CA 91324 \n\n\n\n\n\n\nPlease select your time slot for your in-person Welcome Visit to our Northridge Sylvan Center. \n\n\n\n\n[/vc_column_text]Schedule[/vc_column][/vc_row]
URL:https://thg-prevention.org/events/sylvan-learning-northridge/2027-08-19/
CATEGORIES:Prevention & Aftercare
ATTACH;FMTTYPE=image/jpeg:https://thg-prevention.org/wp-content/uploads/2023/08/1.jpg
END:VEVENT
BEGIN:VEVENT
DTSTART;TZID=UTC:20270819T153000
DTEND;TZID=UTC:20270819T173000
DTSTAMP:20260422T223510
CREATED:20230805T031006Z
LAST-MODIFIED:20230805T062103Z
UID:10000223-1818689400-1818696600@thg-prevention.org
SUMMARY:Sylvan Learning - Tarzana
DESCRIPTION:[vc_row][vc_column][vc_column_text] \nSylvan Learning Center Tarzana\nThe Help Group Drop-In Welcome Visit\n\n\nTime: 3:30pm for 15 min\n\n\n\n\nLocation: 18840 Ventura Blvd #219\, Tarzana\, CA 91356 \n\n\n\n\n\n\nPlease schedule your first in-person visit to our Sylvan Learning Center in Tarzana. \n\n\n\n[/vc_column_text]Schedule[/vc_column][/vc_row]
URL:https://thg-prevention.org/events/sylvan-learning-tarzana/2027-08-19/
CATEGORIES:Prevention & Aftercare
ATTACH;FMTTYPE=image/jpeg:https://thg-prevention.org/wp-content/uploads/2023/08/1.jpg
END:VEVENT
BEGIN:VEVENT
DTSTART;TZID=UTC:20270826T150000
DTEND;TZID=UTC:20270826T170000
DTSTAMP:20260422T223510
CREATED:20230805T031437Z
LAST-MODIFIED:20230805T062036Z
UID:10000747-1819292400-1819299600@thg-prevention.org
SUMMARY:Sylvan Learning - Northridge
DESCRIPTION:[vc_row][vc_column][vc_column_text] \n\n\nNorthridge Sylvan\nThe Help Group Drop-In Welcome Visit\n\n\n\n\n\nTime: 3pm for 15 min \n\n\n\n\n\nLocation: 8984 Tampa Ave\, Northridge\, CA 91324 \n\n\n\n\n\n\nPlease select your time slot for your in-person Welcome Visit to our Northridge Sylvan Center. \n\n\n\n\n[/vc_column_text]Schedule[/vc_column][/vc_row]
URL:https://thg-prevention.org/events/sylvan-learning-northridge/2027-08-26/
CATEGORIES:Prevention & Aftercare
ATTACH;FMTTYPE=image/jpeg:https://thg-prevention.org/wp-content/uploads/2023/08/1.jpg
END:VEVENT
BEGIN:VEVENT
DTSTART;TZID=UTC:20270826T153000
DTEND;TZID=UTC:20270826T173000
DTSTAMP:20260422T223510
CREATED:20230805T031006Z
LAST-MODIFIED:20230805T062103Z
UID:10000224-1819294200-1819301400@thg-prevention.org
SUMMARY:Sylvan Learning - Tarzana
DESCRIPTION:[vc_row][vc_column][vc_column_text] \nSylvan Learning Center Tarzana\nThe Help Group Drop-In Welcome Visit\n\n\nTime: 3:30pm for 15 min\n\n\n\n\nLocation: 18840 Ventura Blvd #219\, Tarzana\, CA 91356 \n\n\n\n\n\n\nPlease schedule your first in-person visit to our Sylvan Learning Center in Tarzana. \n\n\n\n[/vc_column_text]Schedule[/vc_column][/vc_row]
URL:https://thg-prevention.org/events/sylvan-learning-tarzana/2027-08-26/
CATEGORIES:Prevention & Aftercare
ATTACH;FMTTYPE=image/jpeg:https://thg-prevention.org/wp-content/uploads/2023/08/1.jpg
END:VEVENT
BEGIN:VEVENT
DTSTART;TZID=UTC:20270902T150000
DTEND;TZID=UTC:20270902T170000
DTSTAMP:20260422T223510
CREATED:20230805T031437Z
LAST-MODIFIED:20230805T062036Z
UID:10000748-1819897200-1819904400@thg-prevention.org
SUMMARY:Sylvan Learning - Northridge
DESCRIPTION:[vc_row][vc_column][vc_column_text] \n\n\nNorthridge Sylvan\nThe Help Group Drop-In Welcome Visit\n\n\n\n\n\nTime: 3pm for 15 min \n\n\n\n\n\nLocation: 8984 Tampa Ave\, Northridge\, CA 91324 \n\n\n\n\n\n\nPlease select your time slot for your in-person Welcome Visit to our Northridge Sylvan Center. \n\n\n\n\n[/vc_column_text]Schedule[/vc_column][/vc_row]
URL:https://thg-prevention.org/events/sylvan-learning-northridge/2027-09-02/
CATEGORIES:Prevention & Aftercare
ATTACH;FMTTYPE=image/jpeg:https://thg-prevention.org/wp-content/uploads/2023/08/1.jpg
END:VEVENT
BEGIN:VEVENT
DTSTART;TZID=UTC:20270902T153000
DTEND;TZID=UTC:20270902T173000
DTSTAMP:20260422T223510
CREATED:20230805T031006Z
LAST-MODIFIED:20230805T062103Z
UID:10000225-1819899000-1819906200@thg-prevention.org
SUMMARY:Sylvan Learning - Tarzana
DESCRIPTION:[vc_row][vc_column][vc_column_text] \nSylvan Learning Center Tarzana\nThe Help Group Drop-In Welcome Visit\n\n\nTime: 3:30pm for 15 min\n\n\n\n\nLocation: 18840 Ventura Blvd #219\, Tarzana\, CA 91356 \n\n\n\n\n\n\nPlease schedule your first in-person visit to our Sylvan Learning Center in Tarzana. \n\n\n\n[/vc_column_text]Schedule[/vc_column][/vc_row]
URL:https://thg-prevention.org/events/sylvan-learning-tarzana/2027-09-02/
CATEGORIES:Prevention & Aftercare
ATTACH;FMTTYPE=image/jpeg:https://thg-prevention.org/wp-content/uploads/2023/08/1.jpg
END:VEVENT
BEGIN:VEVENT
DTSTART;TZID=UTC:20270909T150000
DTEND;TZID=UTC:20270909T170000
DTSTAMP:20260422T223510
CREATED:20230805T031437Z
LAST-MODIFIED:20230805T062036Z
UID:10000749-1820502000-1820509200@thg-prevention.org
SUMMARY:Sylvan Learning - Northridge
DESCRIPTION:[vc_row][vc_column][vc_column_text] \n\n\nNorthridge Sylvan\nThe Help Group Drop-In Welcome Visit\n\n\n\n\n\nTime: 3pm for 15 min \n\n\n\n\n\nLocation: 8984 Tampa Ave\, Northridge\, CA 91324 \n\n\n\n\n\n\nPlease select your time slot for your in-person Welcome Visit to our Northridge Sylvan Center. \n\n\n\n\n[/vc_column_text]Schedule[/vc_column][/vc_row]
URL:https://thg-prevention.org/events/sylvan-learning-northridge/2027-09-09/
CATEGORIES:Prevention & Aftercare
ATTACH;FMTTYPE=image/jpeg:https://thg-prevention.org/wp-content/uploads/2023/08/1.jpg
END:VEVENT
BEGIN:VEVENT
DTSTART;TZID=UTC:20270909T153000
DTEND;TZID=UTC:20270909T173000
DTSTAMP:20260422T223510
CREATED:20230805T031006Z
LAST-MODIFIED:20230805T062103Z
UID:10000226-1820503800-1820511000@thg-prevention.org
SUMMARY:Sylvan Learning - Tarzana
DESCRIPTION:[vc_row][vc_column][vc_column_text] \nSylvan Learning Center Tarzana\nThe Help Group Drop-In Welcome Visit\n\n\nTime: 3:30pm for 15 min\n\n\n\n\nLocation: 18840 Ventura Blvd #219\, Tarzana\, CA 91356 \n\n\n\n\n\n\nPlease schedule your first in-person visit to our Sylvan Learning Center in Tarzana. \n\n\n\n[/vc_column_text]Schedule[/vc_column][/vc_row]
URL:https://thg-prevention.org/events/sylvan-learning-tarzana/2027-09-09/
CATEGORIES:Prevention & Aftercare
ATTACH;FMTTYPE=image/jpeg:https://thg-prevention.org/wp-content/uploads/2023/08/1.jpg
END:VEVENT
BEGIN:VEVENT
DTSTART;TZID=UTC:20270916T150000
DTEND;TZID=UTC:20270916T170000
DTSTAMP:20260422T223510
CREATED:20230805T031437Z
LAST-MODIFIED:20230805T062036Z
UID:10000750-1821106800-1821114000@thg-prevention.org
SUMMARY:Sylvan Learning - Northridge
DESCRIPTION:[vc_row][vc_column][vc_column_text] \n\n\nNorthridge Sylvan\nThe Help Group Drop-In Welcome Visit\n\n\n\n\n\nTime: 3pm for 15 min \n\n\n\n\n\nLocation: 8984 Tampa Ave\, Northridge\, CA 91324 \n\n\n\n\n\n\nPlease select your time slot for your in-person Welcome Visit to our Northridge Sylvan Center. \n\n\n\n\n[/vc_column_text]Schedule[/vc_column][/vc_row]
URL:https://thg-prevention.org/events/sylvan-learning-northridge/2027-09-16/
CATEGORIES:Prevention & Aftercare
ATTACH;FMTTYPE=image/jpeg:https://thg-prevention.org/wp-content/uploads/2023/08/1.jpg
END:VEVENT
BEGIN:VEVENT
DTSTART;TZID=UTC:20270916T153000
DTEND;TZID=UTC:20270916T173000
DTSTAMP:20260422T223510
CREATED:20230805T031006Z
LAST-MODIFIED:20230805T062103Z
UID:10000227-1821108600-1821115800@thg-prevention.org
SUMMARY:Sylvan Learning - Tarzana
DESCRIPTION:[vc_row][vc_column][vc_column_text] \nSylvan Learning Center Tarzana\nThe Help Group Drop-In Welcome Visit\n\n\nTime: 3:30pm for 15 min\n\n\n\n\nLocation: 18840 Ventura Blvd #219\, Tarzana\, CA 91356 \n\n\n\n\n\n\nPlease schedule your first in-person visit to our Sylvan Learning Center in Tarzana. \n\n\n\n[/vc_column_text]Schedule[/vc_column][/vc_row]
URL:https://thg-prevention.org/events/sylvan-learning-tarzana/2027-09-16/
CATEGORIES:Prevention & Aftercare
ATTACH;FMTTYPE=image/jpeg:https://thg-prevention.org/wp-content/uploads/2023/08/1.jpg
END:VEVENT
BEGIN:VEVENT
DTSTART;TZID=UTC:20270923T150000
DTEND;TZID=UTC:20270923T170000
DTSTAMP:20260422T223510
CREATED:20230805T031437Z
LAST-MODIFIED:20230805T062036Z
UID:10000751-1821711600-1821718800@thg-prevention.org
SUMMARY:Sylvan Learning - Northridge
DESCRIPTION:[vc_row][vc_column][vc_column_text] \n\n\nNorthridge Sylvan\nThe Help Group Drop-In Welcome Visit\n\n\n\n\n\nTime: 3pm for 15 min \n\n\n\n\n\nLocation: 8984 Tampa Ave\, Northridge\, CA 91324 \n\n\n\n\n\n\nPlease select your time slot for your in-person Welcome Visit to our Northridge Sylvan Center. \n\n\n\n\n[/vc_column_text]Schedule[/vc_column][/vc_row]
URL:https://thg-prevention.org/events/sylvan-learning-northridge/2027-09-23/
CATEGORIES:Prevention & Aftercare
ATTACH;FMTTYPE=image/jpeg:https://thg-prevention.org/wp-content/uploads/2023/08/1.jpg
END:VEVENT
BEGIN:VEVENT
DTSTART;TZID=UTC:20270923T153000
DTEND;TZID=UTC:20270923T173000
DTSTAMP:20260422T223510
CREATED:20230805T031006Z
LAST-MODIFIED:20230805T062103Z
UID:10000228-1821713400-1821720600@thg-prevention.org
SUMMARY:Sylvan Learning - Tarzana
DESCRIPTION:[vc_row][vc_column][vc_column_text] \nSylvan Learning Center Tarzana\nThe Help Group Drop-In Welcome Visit\n\n\nTime: 3:30pm for 15 min\n\n\n\n\nLocation: 18840 Ventura Blvd #219\, Tarzana\, CA 91356 \n\n\n\n\n\n\nPlease schedule your first in-person visit to our Sylvan Learning Center in Tarzana. \n\n\n\n[/vc_column_text]Schedule[/vc_column][/vc_row]
URL:https://thg-prevention.org/events/sylvan-learning-tarzana/2027-09-23/
CATEGORIES:Prevention & Aftercare
ATTACH;FMTTYPE=image/jpeg:https://thg-prevention.org/wp-content/uploads/2023/08/1.jpg
END:VEVENT
END:VCALENDAR